BEGIN:VCALENDAR
VERSION:2.0
PRODID:-//Fédération régionale des MJC Bourgogne-Franche-Comté - ECPv6.15.20//NONSGML v1.0//EN
CALSCALE:GREGORIAN
METHOD:PUBLISH
X-ORIGINAL-URL:https://bourgogne-franche-comte.frmjc.org
X-WR-CALDESC:Évènements pour Fédération régionale des MJC Bourgogne-Franche-Comté
REFRESH-INTERVAL;VALUE=DURATION:PT1H
X-Robots-Tag:noindex
X-PUBLISHED-TTL:PT1H
BEGIN:VTIMEZONE
TZID:Europe/Paris
BEGIN:DAYLIGHT
TZOFFSETFROM:+0100
TZOFFSETTO:+0200
TZNAME:CEST
DTSTART:20210328T010000
END:DAYLIGHT
BEGIN:STANDARD
TZOFFSETFROM:+0200
TZOFFSETTO:+0100
TZNAME:CET
DTSTART:20211031T010000
END:STANDARD
BEGIN:DAYLIGHT
TZOFFSETFROM:+0100
TZOFFSETTO:+0200
TZNAME:CEST
DTSTART:20220327T010000
END:DAYLIGHT
BEGIN:STANDARD
TZOFFSETFROM:+0200
TZOFFSETTO:+0100
TZNAME:CET
DTSTART:20221030T010000
END:STANDARD
BEGIN:DAYLIGHT
TZOFFSETFROM:+0100
TZOFFSETTO:+0200
TZNAME:CEST
DTSTART:20230326T010000
END:DAYLIGHT
BEGIN:STANDARD
TZOFFSETFROM:+0200
TZOFFSETTO:+0100
TZNAME:CET
DTSTART:20231029T010000
END:STANDARD
END:VTIMEZONE
BEGIN:VEVENT
DTSTART;TZID=Europe/Paris:20220301T203000
DTEND;TZID=Europe/Paris:20220301T223000
DTSTAMP:20260423T123517
CREATED:20220131T102407Z
LAST-MODIFIED:20220131T102407Z
UID:12301-1646166600-1646173800@bourgogne-franche-comte.frmjc.org
SUMMARY:Projection : Adieu M. Haffmann - Marsannay-la-Côte
DESCRIPTION:Du 16 février au 1er mars 2022\, Les Tourneurs de Côte-d’Or et les points de projection partenaires du circuit vous proposent un huis clos historique adapté de la pièce de Jean-Philippe Daguerre avec “Adieu M.Hafmann” !\n\nDrame de Fred Cavayé (2022) / 1h56\nAvec Daniel Auteuil\, Gilles Lellouche\, Sara Giraudeau…\n\nParis 1941. François Mercier est un homme ordinaire qui n’aspire qu’à fonder une famille avec la femme qu’il aime\, Blanche. Il est aussi l’employé d’un joaillier talentueux\, M. Haffmann. Mais face à l’occupation allemande\, les deux hommes n’auront d’autre choix que de conclure un accord dont les conséquences\, au fil des mois\, bouleverseront le destin de nos trois personnages.\n\n\n________________________________________\n\n\nTarif normal 5.50€\nTarif réduit 4.50€\nCarte d’abonnement : 22.50€ pour 5 entrées\n Normes sanitaires en vigueur :\nPort du masque obligatoire à partir de 6 ans\nConsommation de produits alimentaires ou boissons interdits pendant la projection\nL’accès à la séance est soumis à : la présentation d’un pass sanitaire valide à partir de 12 ans et 2 mois\, d’un pass vaccinal valide à partir de 16 ans
URL:https://bourgogne-franche-comte.frmjc.org/evenement/projection-adieu-m-haffmann-marsannay-la-cote/
LOCATION:Maison de Marsannay\, Route des grands crus\, MARSANNAY-LA-COTE\, 21160\, France
CATEGORIES:Cinéma
ATTACH;FMTTYPE=image/jpeg:https://bourgogne-franche-comte.frmjc.org/wp-content/uploads/2022/01/adieumhaffman-e1643623286602.jpg
END:VEVENT
BEGIN:VEVENT
DTSTART;TZID=Europe/Paris:20220301T203000
DTEND;TZID=Europe/Paris:20220301T233000
DTSTAMP:20260423T123517
CREATED:20220131T101047Z
LAST-MODIFIED:20220131T101047Z
UID:12289-1646166600-1646177400@bourgogne-franche-comte.frmjc.org
SUMMARY:Projection : Adieu M. Haffmann - Demigny
DESCRIPTION:Du 16 février au 1er mars 2022\, Les Tourneurs de Côte-d’Or et les points de projection partenaires du circuit vous proposent un huis clos historique adapté de la pièce de Jean-Philippe Daguerre avec “Adieu M.Hafmann” !\n\nDrame de Fred Cavayé (2022) / 1h56\nAvec Daniel Auteuil\, Gilles Lellouche\, Sara Giraudeau…\n\nParis 1941. François Mercier est un homme ordinaire qui n’aspire qu’à fonder une famille avec la femme qu’il aime\, Blanche. Il est aussi l’employé d’un joaillier talentueux\, M. Haffmann. Mais face à l’occupation allemande\, les deux hommes n’auront d’autre choix que de conclure un accord dont les conséquences\, au fil des mois\, bouleverseront le destin de nos trois personnages.\n\n\n________________________________________\n\n\nTarif normal 5.50€\nTarif réduit 4.50€\nCarte d’abonnement : 22.50€ pour 5 entrées\n Normes sanitaires en vigueur :\nPort du masque obligatoire à partir de 6 ans\nConsommation de produits alimentaires ou boissons interdits pendant la projection\nL’accès à la séance est soumis à : la présentation d’un pass sanitaire valide à partir de 12 ans et 2 mois\, d’un pass vaccinal valide à partir de 16 ans
URL:https://bourgogne-franche-comte.frmjc.org/evenement/projection-adieu-m-haffmann-demigny/
LOCATION:Salle Guimet\, Place du 11 novembre\, DEMIGNY\, 71150\, France
CATEGORIES:Cinéma
ATTACH;FMTTYPE=image/jpeg:https://bourgogne-franche-comte.frmjc.org/wp-content/uploads/2022/01/adieumhaffman-e1643623286602.jpg
END:VEVENT
BEGIN:VEVENT
DTSTART;TZID=Europe/Paris:20220305T080000
DTEND;TZID=Europe/Paris:20220305T170000
DTSTAMP:20260423T123517
CREATED:20210914T110528Z
LAST-MODIFIED:20210914T110528Z
UID:10904-1646467200-1646499600@bourgogne-franche-comte.frmjc.org
SUMMARY:Rencontre Jeunes Passeurs d'images bfc
DESCRIPTION:Une journée plongée dans le festival Chef Op’ en  lumière pour mettre à l’honneur les projets Passeurs d’images en bfc. Un temps convivial privilégié entre les participants\, les structures\, les intervenants\, les partenaires au fil des projections de réalisations depuis 2019.
URL:https://bourgogne-franche-comte.frmjc.org/evenement/rencontre-jeunes-passeurs-dimages-bfc/
CATEGORIES:Cinéma,Festival,Manifestation culturelle,Rencontre
ATTACH;FMTTYPE=image/jpeg:https://bourgogne-franche-comte.frmjc.org/wp-content/uploads/2021/01/2.jpg
END:VEVENT
BEGIN:VEVENT
DTSTART;TZID=Europe/Paris:20220316T140000
DTEND;TZID=Europe/Paris:20220316T163000
DTSTAMP:20260423T123517
CREATED:20220307T160025Z
LAST-MODIFIED:20220307T160025Z
UID:12754-1647439200-1647448200@bourgogne-franche-comte.frmjc.org
SUMMARY:ANIM' TON COURT
DESCRIPTION:Un après-midi à la découverte du cinéma d’animation\, entre projections et ateliers :\n \n  \n14h00 Projection : Adèle – 6’15 (en présence de l’illustratrice Bérangère Mariller ) \nAdèle cherche à devenir une princesse\, mais en a-t-elle vraiment envie ? \nCo-réalisé par les jeunes du quartier lors des ateliers d’été de la Maison Phare\, avec l’illustratrice Bérangère Mariller et la FRMJC \nAtelier : Quizz \n  \n14h30 Projection : Mon papi s’est caché – 8’ \nUn grand-père explique à son petit-fils qu’il devra prendre grand soin de son jardin après sa mort. S’ensuit une discussion\, touchante et poétique\, sur les traces qui restent après la disparition d’un être cher… \nAnne Huynh • France • 2018 \nAtelier : Avec tes voisins – Fabrique l’affiche du film \n  \n15h 00 Projection: My dear Gnome – 1’ \nIl était une fois\, une biche malicieuse qui rencontra un nain de jardin prisonnier de son corps… \nEmmanuelle & Julien• France • 2015 \nAtelier : Table Mashup – Mais que pourrait se dire ces deux personnages s’ils pouvaient parler ? \n 
URL:https://bourgogne-franche-comte.frmjc.org/evenement/anim-ton-court/
LOCATION:Maison-phare\, 2 allée de Grenoble\, DIJON\, 21000
CATEGORIES:Atelier,Cinéma,Festival
ATTACH;FMTTYPE=image/png:https://bourgogne-franche-comte.frmjc.org/wp-content/uploads/2022/02/Flyer-Fete-du-court-metrage-2022.png
END:VEVENT
BEGIN:VEVENT
DTSTART;TZID=Europe/Paris:20220318T180000
DTEND;TZID=Europe/Paris:20220318T193000
DTSTAMP:20260423T123517
CREATED:20220307T160521Z
LAST-MODIFIED:20220307T160521Z
UID:12758-1647626400-1647631800@bourgogne-franche-comte.frmjc.org
SUMMARY:ANIM TA COURS
DESCRIPTION:Une soirée à la découverte du cinéma d’animation\, spéciale ados entre projections et ateliers : \n  \n18h00 Projection: No\, I don’t want to dance – 3’ \nEn ces temps sombres\, vous pouvez penser que chaque danger a été identifié\, mais personne n’a jamais pris en compte le danger que peut représenter la … \nAndrea Vinciguerra . 2019 \nAtelier :  Décryptage \n  \n18h30 Projection : Selfies – 3’44 \nUn feu d’artifice d’autoportraits où des centaines de selfies idylliques\, affligeants ou terriblement inquiétants sont agencés en un court métrage à la singulière composition. Artistiquement re-travaillées\, les photos individuelles se fondent en un terrifiant rictus qui éclaire l’abîme de l’existence humaine. \nClaudius Gentinetta • Suisse • 2018 \nAtelier : Danser cadrer \n  \n19h00 Projection : La Bite 4’09  \nUn jeune provocateur dessine une bite sur un mur. La police intervient brutalement. Son geste\, initialement vide de sens\, est repris à travers le pays et le ton monte de façon alarmante\, déclenchant une tempête médiatique et sociale qui menace dangereusement l’ordre établi. Mais quand la fumée retombe\, le nouveau système semble étrangement familier et les autres jeunes provocateurs ne sont pas plus à l’abri. \nPierre Mortel\, Jérôme Leroy . 2015 \nAtelier : Scenario
URL:https://bourgogne-franche-comte.frmjc.org/evenement/anim-ta-cours/
LOCATION:Maison-phare\, 2 allée de Grenoble\, DIJON\, 21000
CATEGORIES:Atelier,Cinéma,Festival,Rencontre
ATTACH;FMTTYPE=image/png:https://bourgogne-franche-comte.frmjc.org/wp-content/uploads/2022/02/Flyer-Fete-du-court-metrage-2022.png
END:VEVENT
BEGIN:VEVENT
DTSTART;TZID=Europe/Paris:20220319T140000
DTEND;TZID=Europe/Paris:20220319T163000
DTSTAMP:20260423T123517
CREATED:20220307T161755Z
LAST-MODIFIED:20220307T161755Z
UID:12763-1647698400-1647707400@bourgogne-franche-comte.frmjc.org
SUMMARY:ANIM' TA BIBLIOTHÈQUE
DESCRIPTION:Un après-midi en famille à la découverte du cinéma d’animation\, entre ateliers et projections : \n  \n14h30 Projection : Le Monde en soi – 19’ – A partir de 12 ans \nUne jeune peintre préparant sa première exposition s’investit dans sa création jusqu’à perdre pied avec le réel et sombrer dans un chaos hallucinatoire. Dans la claustration d’une clinique\, elle se reconstruit lentement par la peinture et l’observation quotidienne d’un écureuil à travers la fenêtre. \nJean-Charles Finck • et Sandrine Stoïanov • France • 2020 \n  \n15h00 Projection : Mémorable – 12’02 – A partir de 9 ans \nDepuis peu\, Louis\, artiste peintre\, et sa femme Michelle vivent d’étranges événements. L’univers qui les entoure semble en mutation. Lentement\, les meubles\, les objets\, des personnes perdent de leur réalisme. Ils se déstructurent\, parfois se délitent… \nBruno Collet • France • 2019 \n  \n15h30 Projection :   Cul de bouteille – 9’18 – A partir de 6 ans \nLa nouvelle terrible est tombée : profondément myope\, Arnaud doit porter des lunettes\, et pas n’importe quelles lunettes\, une monture grossière qui lui décolle les oreilles et lui pince le nez. Des verres si épais que ses yeux ne semblent plus que deux petits points noirs… Ces affreuses binocles\, Arnaud ne les aime pas et il préfère de loin le monde flou et protéiforme de sa myopie\, un monde peuplé de monstres\, licornes et autres chimères qui apparaissent au gré de sa fertile imagination. \nJean-Claude Rozec • France • 2010 \n  \n16h30 Projection :   Le renard minuscule – 8’ – A partir de 3 ans \nAu milieu d’un jardin foisonnant\, un tout petit renard rencontre une enfant intrépide qui fait pousser des plantes géantes ! Par un joyeux hasard\, ils découvrent qu’ils peuvent faire pousser des objets\, cela va donner des idées aux petits malins… \nSylwia Szkiladz • et Aline Quertain • France • 2015 \n  \nEn continu atelier pré-cinéma \nOn considère que l’invention du cinéma apparaît avec la mise au point du cinématographe en 1895. Mais avant les Frères Lumière\, d’autres inventeurs ont exploré la restitution du mouvement. A la découverte de ces objets aux noms bien curieux: «thaumatrope»\, «phénakistiscope»\, «praxinoscope»… ces appareils optiques\, donnent l’illusion du mouvement à partir de dessins et de photographies\, et nous permettent de remonter aux origines de l’animation de l’image.
URL:https://bourgogne-franche-comte.frmjc.org/evenement/anim-ta-bibliotheque/
LOCATION:bibliothèque municpale de Fonatine d’ouche\, Place André Gervais Centre commercial de la Fontaine d'Ouche\, Dijon\, 21000
CATEGORIES:Atelier,Cinéma,Festival
ATTACH;FMTTYPE=image/png:https://bourgogne-franche-comte.frmjc.org/wp-content/uploads/2022/02/Flyer-Fete-du-court-metrage-2022.png
END:VEVENT
BEGIN:VEVENT
DTSTART;TZID=Europe/Paris:20220322T203000
DTEND;TZID=Europe/Paris:20220322T223000
DTSTAMP:20260423T123517
CREATED:20220314T103936Z
LAST-MODIFIED:20220314T104721Z
UID:12781-1647981000-1647988200@bourgogne-franche-comte.frmjc.org
SUMMARY:Festival Diversité : "Indes galantes" à Demigny
DESCRIPTION:Le Festival Diversité s’invite à Demigny avec Indes galantes de Philippe Béziat\, le Mardi 22 mars à 20h30 à la salle Jacques Copeau.\nPlongez dans la magie de la création d’un opéra à Bastille !\n\n\n  \n\nLes danseurs de la Cie TSN et du collectif Espace de rue seront présents pour une démonstration de hip hop.\n\n\n\n  \nDocumentaire de Phillipe Béziat – 2021 – 1h48.\nC’est une première pour 30 danseurs de hip-hop\, krump\, break\, voguing… Une première pour le metteur en scène Clément Cogitore et pour la chorégraphe Bintou Dembélé. Et une première pour l’Opéra de Paris. En faisant dialoguer danse urbaine et chant lyrique\, ils réinventent ensemble le chef-d’œuvre baroque de Jean-Philippe Rameau\, Les Indes Galantes. Des répétitions aux représentations publiques\, c’est une aventure humaine et une rencontre aux enjeux politiques que nous suivons : une nouvelle génération d’artistes peut-elle aujourd’hui prendre la Bastille ?\n\n\n\n  \n\nPour découvrir le programme complet du festival en Bourgogne Franche-Comté\, c’est ici 
URL:https://bourgogne-franche-comte.frmjc.org/evenement/festival-diversite-indes-galantes-a-demigny/
LOCATION:Salle Jacques Copeau\, les grandes vignes\, Demigny\, 71150\, France
CATEGORIES:Cinéma,Festival
ATTACH;FMTTYPE=image/jpeg:https://bourgogne-franche-comte.frmjc.org/wp-content/uploads/2022/03/diversitefestival.jpg
END:VEVENT
BEGIN:VEVENT
DTSTART;TZID=Europe/Paris:20220324T203000
DTEND;TZID=Europe/Paris:20220324T230000
DTSTAMP:20260423T123517
CREATED:20220207T093912Z
LAST-MODIFIED:20220207T093912Z
UID:12369-1648153800-1648162800@bourgogne-franche-comte.frmjc.org
SUMMARY:Soirée échanges "Midnight Traveler"
DESCRIPTION:Dans le Cadre du Festival Diversité\, le Cinéma Olympia Pontarlier vous propose de découvrir “Midnight Traveler”.\n\nTemps d’échange à la suite du film assuré par des réfugiés afghans\, la Croix Rouge Pontarlier\, l’Association REPAIR et la MJC des Capucins de Pontarlier.\n\nSynopsis: Lorsque les Talibans mettent sa tête à prix\, le réalisateur afghan Hassan Fazili est contraint de fuir son pays avec sa femme et ses deux filles. Son crime ? Avoir ouvert un café proposant des activités culturelles. Commence alors un périple incertain et dangereux. Pendant trois ans\, Fazili filme sa famille et leur vie d’attente\, de peur\, d’ennui. Cinéaste sans autre caméra que son téléphone portable\, il filme la lutte quotidienne qu’est devenue leur existence\, ses filles qui grandissent dans des camps de transit\, et l’amour qui les unit. Il filme pour ne pas être oublié. Il filme pour ne pas devenir fou.\n\nPossibilité de Découvrir ce film avec Votre Pass Culture – Rendez-vous sur le Site de Pass Culture pour Réserver pour cette Séance.\n\nPlaces en vente dès à présent aux heures d’ouverture de Caisse de Votre Cinéma ou directement depuis chez vous en vous rendant sur https://www.ticketingcine.fr/?nc=0864&lang=fr&ids=77566…\nBande Annonce: https://www.allocine.fr/film/fichefilm_gen_cfilm=270332.html\n\nMerci d’avance à tout ceux qui partageront et inviteront leurs amis à rejoindre cet évènement !
URL:https://bourgogne-franche-comte.frmjc.org/evenement/soiree-echanges-midnight-traveler/
LOCATION:Cinéma Olympia\, 2 rue Louis Pergaud\, Pontarlier\, 25300
CATEGORIES:Ciné-débat,Débat
ATTACH;FMTTYPE=image/jpeg:https://bourgogne-franche-comte.frmjc.org/wp-content/uploads/2022/02/soireeechange.jpg
END:VEVENT
END:VCALENDAR