BEGIN:VCALENDAR
VERSION:2.0
PRODID:-//Fédération régionale des MJC Bourgogne-Franche-Comté - ECPv6.15.20//NONSGML v1.0//EN
CALSCALE:GREGORIAN
METHOD:PUBLISH
X-WR-CALNAME:Fédération régionale des MJC Bourgogne-Franche-Comté
X-ORIGINAL-URL:http://bourgogne-franche-comte.frmjc.org
X-WR-CALDESC:Évènements pour Fédération régionale des MJC Bourgogne-Franche-Comté
REFRESH-INTERVAL;VALUE=DURATION:PT1H
X-Robots-Tag:noindex
X-PUBLISHED-TTL:PT1H
BEGIN:VTIMEZONE
TZID:Europe/Paris
BEGIN:DAYLIGHT
TZOFFSETFROM:+0100
TZOFFSETTO:+0200
TZNAME:CEST
DTSTART:20220327T010000
END:DAYLIGHT
BEGIN:STANDARD
TZOFFSETFROM:+0200
TZOFFSETTO:+0100
TZNAME:CET
DTSTART:20221030T010000
END:STANDARD
BEGIN:DAYLIGHT
TZOFFSETFROM:+0100
TZOFFSETTO:+0200
TZNAME:CEST
DTSTART:20230326T010000
END:DAYLIGHT
BEGIN:STANDARD
TZOFFSETFROM:+0200
TZOFFSETTO:+0100
TZNAME:CET
DTSTART:20231029T010000
END:STANDARD
BEGIN:DAYLIGHT
TZOFFSETFROM:+0100
TZOFFSETTO:+0200
TZNAME:CEST
DTSTART:20240331T010000
END:DAYLIGHT
BEGIN:STANDARD
TZOFFSETFROM:+0200
TZOFFSETTO:+0100
TZNAME:CET
DTSTART:20241027T010000
END:STANDARD
END:VTIMEZONE
BEGIN:VEVENT
DTSTART;TZID=Europe/Paris:20230927T180000
DTEND;TZID=Europe/Paris:20230927T190000
DTSTAMP:20260423T234555
CREATED:20230926T095914Z
LAST-MODIFIED:20230926T100129Z
UID:15971-1695837600-1695841200@bourgogne-franche-comte.frmjc.org
SUMMARY:Questions-Réponses sur l'appel à projets Passeurs d'images
DESCRIPTION:
URL:http://bourgogne-franche-comte.frmjc.org/evenement/questions-reponses-sur-lappel-a-projets-passeurs-dimages/
LOCATION:Autun\, Autun
CATEGORIES:Rencontre
END:VEVENT
BEGIN:VEVENT
DTSTART;VALUE=DATE:20230928
DTEND;VALUE=DATE:20230930
DTSTAMP:20260423T234555
CREATED:20230926T105154Z
LAST-MODIFIED:20230926T105154Z
UID:16006-1695859200-1696031999@bourgogne-franche-comte.frmjc.org
SUMMARY:Formation des Directeurs-rices des MJC de Bourgogne-Franche-Comté
DESCRIPTION:
URL:http://bourgogne-franche-comte.frmjc.org/evenement/formation-des-directeurs-rices-des-mjc-de-bourgogne-franche-comte/
LOCATION:Dijon\, Dijon
CATEGORIES:Formation
END:VEVENT
BEGIN:VEVENT
DTSTART;TZID=Europe/Paris:20230928T093000
DTEND;TZID=Europe/Paris:20230928T120000
DTSTAMP:20260423T234555
CREATED:20230928T100259Z
LAST-MODIFIED:20230926T101129Z
UID:15976-1695893400-1695902400@bourgogne-franche-comte.frmjc.org
SUMMARY:Table ronde : Education aux images et images d'archives
DESCRIPTION:
URL:http://bourgogne-franche-comte.frmjc.org/evenement/table-ronde-education-aux-images-et-images-darchives/
LOCATION:Autun\, Autun
ORGANIZER;CN="aparr":MAILTO:https://www.aparr.org
END:VEVENT
BEGIN:VEVENT
DTSTART;TZID=Europe/Paris:20230928T103000
DTEND;TZID=Europe/Paris:20230928T120000
DTSTAMP:20260423T234555
CREATED:20230926T101419Z
LAST-MODIFIED:20230926T101419Z
UID:15986-1695897000-1695902400@bourgogne-franche-comte.frmjc.org
SUMMARY:Visioconférence Régionale : (futurs) tuteurs Service civique
DESCRIPTION:
URL:http://bourgogne-franche-comte.frmjc.org/evenement/visioconference-regionale-futurs-tuteurs-service-civique/
CATEGORIES:Rencontre
END:VEVENT
BEGIN:VEVENT
DTSTART;VALUE=DATE:20230930
DTEND;VALUE=DATE:20231001
DTSTAMP:20260423T234555
CREATED:20230926T100640Z
LAST-MODIFIED:20230926T100640Z
UID:15978-1696032000-1696118399@bourgogne-franche-comte.frmjc.org
SUMMARY:Clôture des inscriptions : Rencontres des FabLabs
DESCRIPTION:Du 12 au 15 octobre se déroulent à la Cité des Sciences et de l’industrie (Paris) les rencontres des FabLabs\, plus globalement des lieux du faire\, comme peuvent l’être les MJC !\n\nAu regard de enjeu stratégique que revêt la structuration des FabLabs pour notre réseau\, que ce soit en terme de financement mais surtout en terme de dynamique territoriale (avec les collectivités)\, de revivification de notre projet d’éducation populaire… MJC de France a trouvé opportun d’être partenaire de l’évènement et qu’une délégation MJC y soit présente. Une quinzaine de personnes du réseau se sont déjà inscrites. Il n’est pas encore trop tard de vous inscrire si vous le souhaitez.\n\nVous trouverez ici le pré-programme des ces journées : https://rfflabs.fr/evenements/octobermake2023/\nIl est encore en cours d’évolution.\n\n\nLes inscriptions sont ouvertes jusqu’au 30 septembre. Vous pouvez le faire ici : https://www.billetweb.fr/octobermake-2023-dynamiques-croisees\nPour les inscriptions il est important de signifier votre “appartenance” au réseau MJC de France. Il y a un onglet à cet effet.\n\nVous remarquerez que les inscriptions sont payantes. MJC de France ne pourra pas prendre à son compte l’ensemble des frais\, mais une partie.\nJe suis disponible pour toutes questions éventuelles.\n\n\n\n\n\n— \n\nRaphaël SOUYRIS \n\n\nAnimateur réseau national – Actions culturelles et citoyennes\n\n \nMJC de France \n\n168 bis rue Cardinet  –  75017 Paris  \n\nTél : +33 1 44 85 29 81 // +33 6 31 06 13 61\nNon disponible le vendredi.\n\n\nInscrivez-vous à notre newsletter !
URL:http://bourgogne-franche-comte.frmjc.org/evenement/cloture-des-inscriptions-rencontres-des-fablabs/
LOCATION:Pais
CATEGORIES:Rencontre
END:VEVENT
END:VCALENDAR