BEGIN:VCALENDAR
VERSION:2.0
PRODID:-//Fédération régionale des MJC Bourgogne-Franche-Comté - ECPv6.15.20//NONSGML v1.0//EN
CALSCALE:GREGORIAN
METHOD:PUBLISH
X-ORIGINAL-URL:http://bourgogne-franche-comte.frmjc.org
X-WR-CALDESC:Évènements pour Fédération régionale des MJC Bourgogne-Franche-Comté
REFRESH-INTERVAL;VALUE=DURATION:PT1H
X-Robots-Tag:noindex
X-PUBLISHED-TTL:PT1H
BEGIN:VTIMEZONE
TZID:Europe/Paris
BEGIN:DAYLIGHT
TZOFFSETFROM:+0100
TZOFFSETTO:+0200
TZNAME:CEST
DTSTART:20210328T010000
END:DAYLIGHT
BEGIN:STANDARD
TZOFFSETFROM:+0200
TZOFFSETTO:+0100
TZNAME:CET
DTSTART:20211031T010000
END:STANDARD
BEGIN:DAYLIGHT
TZOFFSETFROM:+0100
TZOFFSETTO:+0200
TZNAME:CEST
DTSTART:20220327T010000
END:DAYLIGHT
BEGIN:STANDARD
TZOFFSETFROM:+0200
TZOFFSETTO:+0100
TZNAME:CET
DTSTART:20221030T010000
END:STANDARD
BEGIN:DAYLIGHT
TZOFFSETFROM:+0100
TZOFFSETTO:+0200
TZNAME:CEST
DTSTART:20230326T010000
END:DAYLIGHT
BEGIN:STANDARD
TZOFFSETFROM:+0200
TZOFFSETTO:+0100
TZNAME:CET
DTSTART:20231029T010000
END:STANDARD
END:VTIMEZONE
BEGIN:VEVENT
DTSTART;TZID=Europe/Paris:20220329T103000
DTEND;TZID=Europe/Paris:20220329T123000
DTSTAMP:20260424T020850
CREATED:20220328T102843Z
LAST-MODIFIED:20220328T102843Z
UID:12832-1648549800-1648557000@bourgogne-franche-comte.frmjc.org
SUMMARY:Webinaire : présentation des nouveautés du Pass Culture
DESCRIPTION:Ce webinaire est ouvert à toutes les personnes du réseau\, MJC\, UD et FRMJC.  \n  \nA l’image de celui organisé l’année dernière par la Confédération des MJC de France\, le webinaire sera animé par Théo Gasquet et Clément Lavault\,  interlocuteurs du pass Culture. \nIl s’agira de présenter les nouveautés 2022 du pass Culture\, en appuyant fortement sur l’ouverture aux -18ans et le volet collectif en lien avec les établissements scolaires. Nous insisterons sur les aspects techniques des démarches pour que les MJC puissent proposer des offres collectives en lien avec les établissements scolaires (quel est le schéma d’information). \nNous profiterons également de ce moment pour répondre à d’autres questions techniques générales qui ont été soulevées par le copil. \nEn fin de webinaire\, il y aura un moment de questions/réponses pour les personnes présentes. \n  \nLa CMJCF souhaiterait également avoir le témoignage d’une MJC qui utilise le pass Culture.  \nSi des personnes sont intéressées pour témoigner sur leur expérience\, merci de contacter Raphaël Souyris\, animateur réseau national et actions culturelles et citoyennes de la Confédération des MJC de France : rsouyris@cmjcf.fr \n  \nVous pouvez d’ores déjà partager le liens d’inscription et de la visio dans vos réseaux. \nLien d’inscription : \nhttps://framaforms.org/webinaire-pass-culture-1646817151 \n  \nLien de la visio : \nhttps://us02web.zoom.us/j/88259315242 \n 
URL:http://bourgogne-franche-comte.frmjc.org/evenement/webinaire-presentation-des-nouveautes-du-pass-culture/
CATEGORIES:Webinaire
ATTACH;FMTTYPE=image/jpeg:http://bourgogne-franche-comte.frmjc.org/wp-content/uploads/2022/03/Visuel-logo-Pass-Culture.jpg
ORGANIZER;CN="Conf%C3%A9d%C3%A9ration des MJC de France":MAILTO:cmjcf@cmjcf.fr
END:VEVENT
END:VCALENDAR