BEGIN:VCALENDAR
VERSION:2.0
PRODID:-//Fédération régionale des MJC Bourgogne-Franche-Comté - ECPv6.15.20//NONSGML v1.0//EN
CALSCALE:GREGORIAN
METHOD:PUBLISH
X-ORIGINAL-URL:http://bourgogne-franche-comte.frmjc.org
X-WR-CALDESC:Évènements pour Fédération régionale des MJC Bourgogne-Franche-Comté
REFRESH-INTERVAL;VALUE=DURATION:PT1H
X-Robots-Tag:noindex
X-PUBLISHED-TTL:PT1H
BEGIN:VTIMEZONE
TZID:Europe/Paris
BEGIN:DAYLIGHT
TZOFFSETFROM:+0100
TZOFFSETTO:+0200
TZNAME:CEST
DTSTART:20200329T010000
END:DAYLIGHT
BEGIN:STANDARD
TZOFFSETFROM:+0200
TZOFFSETTO:+0100
TZNAME:CET
DTSTART:20201025T010000
END:STANDARD
BEGIN:DAYLIGHT
TZOFFSETFROM:+0100
TZOFFSETTO:+0200
TZNAME:CEST
DTSTART:20210328T010000
END:DAYLIGHT
BEGIN:STANDARD
TZOFFSETFROM:+0200
TZOFFSETTO:+0100
TZNAME:CET
DTSTART:20211031T010000
END:STANDARD
BEGIN:DAYLIGHT
TZOFFSETFROM:+0100
TZOFFSETTO:+0200
TZNAME:CEST
DTSTART:20220327T010000
END:DAYLIGHT
BEGIN:STANDARD
TZOFFSETFROM:+0200
TZOFFSETTO:+0100
TZNAME:CET
DTSTART:20221030T010000
END:STANDARD
END:VTIMEZONE
BEGIN:VEVENT
DTSTART;TZID=Europe/Paris:20210622T140000
DTEND;TZID=Europe/Paris:20210622T170000
DTSTAMP:20260424T121006
CREATED:20210616T101141Z
LAST-MODIFIED:20210616T101141Z
UID:10018-1624370400-1624381200@bourgogne-franche-comte.frmjc.org
SUMMARY:Café réparation - MJC CS des Bourroches
DESCRIPTION:Grande reprise des Ateliers “Café Réparation” à la MJC – Centre Social des Bourroches en partenariat avec La recyclade !\nVoici les premières date prévues à la MJC (31 Boulevard Eugène FYOT).\nInscription obligatoire (créneau de 20 min) par téléphone au 03 80 41 23 10 ou par mail : contact@mjc-cs-bourroches.fr\n\nDiagnostic et réparation :\nPetits objets de la vie quotidienne\nPetit électroménager (pas d’informatique)
URL:http://bourgogne-franche-comte.frmjc.org/evenement/cafe-reparation-mjc-cs-des-bourroches/
LOCATION:MJC CS Bourroches\, 31 boulevard Eugène Fyot\, Dijon\, 21000
CATEGORIES:Réparation
ATTACH;FMTTYPE=image/png:http://bourgogne-franche-comte.frmjc.org/wp-content/uploads/2021/06/196177480_2869859459898545_6533814555765819222_n.png
END:VEVENT
END:VCALENDAR