BEGIN:VCALENDAR
VERSION:2.0
PRODID:-//Fédération régionale des MJC Bourgogne-Franche-Comté - ECPv6.15.20//NONSGML v1.0//EN
CALSCALE:GREGORIAN
METHOD:PUBLISH
X-WR-CALNAME:Fédération régionale des MJC Bourgogne-Franche-Comté
X-ORIGINAL-URL:http://bourgogne-franche-comte.frmjc.org
X-WR-CALDESC:Évènements pour Fédération régionale des MJC Bourgogne-Franche-Comté
REFRESH-INTERVAL;VALUE=DURATION:PT1H
X-Robots-Tag:noindex
X-PUBLISHED-TTL:PT1H
BEGIN:VTIMEZONE
TZID:Europe/Paris
BEGIN:DAYLIGHT
TZOFFSETFROM:+0100
TZOFFSETTO:+0200
TZNAME:CEST
DTSTART:20200329T010000
END:DAYLIGHT
BEGIN:STANDARD
TZOFFSETFROM:+0200
TZOFFSETTO:+0100
TZNAME:CET
DTSTART:20201025T010000
END:STANDARD
BEGIN:DAYLIGHT
TZOFFSETFROM:+0100
TZOFFSETTO:+0200
TZNAME:CEST
DTSTART:20210328T010000
END:DAYLIGHT
BEGIN:STANDARD
TZOFFSETFROM:+0200
TZOFFSETTO:+0100
TZNAME:CET
DTSTART:20211031T010000
END:STANDARD
BEGIN:DAYLIGHT
TZOFFSETFROM:+0100
TZOFFSETTO:+0200
TZNAME:CEST
DTSTART:20220327T010000
END:DAYLIGHT
BEGIN:STANDARD
TZOFFSETFROM:+0200
TZOFFSETTO:+0100
TZNAME:CET
DTSTART:20221030T010000
END:STANDARD
END:VTIMEZONE
BEGIN:VEVENT
DTSTART;TZID=Europe/Paris:20210705T140000
DTEND;TZID=Europe/Paris:20210709T170000
DTSTAMP:20260424T053222
CREATED:20210629T124105Z
LAST-MODIFIED:20210629T124105Z
UID:10438-1625493600-1625850000@bourgogne-franche-comte.frmjc.org
SUMMARY:LE GRAND BAZ'ART - MJC Grésilles
DESCRIPTION:Le Grand BAZ’ART :\n\n\nLe grand BAZ’ART est une semaine culturelle organisée par la MJC Dijon Grésilles du 5 au 9 juillet 2021 qui a pour objectif de faire découvrir aux participants différentes formes artistiques au travers d’ateliers et de spectacles.\nDes animations pour toutes et tous sont proposées pour ravir petits & grands !\nAu cours des ateliers la journée\, les participants peuvent laisser libre cours à leur imagination & à leur créativité en s’initiant à de nombreuses pratiques artistiques.\nLe soir\, place à l’enchantement : pour s’évader\, concerts & spectacles sont proposés.\nTous les événements de cette semaine culturelle se déroulent au KIWI\, le jardin de la MJC* (ou dans ses murs en cas d’intempéries)\, sont GRATUITS\net sur inscription (s’adresser à l’accueil de la MJC : 03 80 71 55 24)\n*à l’exception du Ciné Plein Air au Parc des Grésilles\nDétail de la programmation :\n\n🔸 LUNDI 5 JUILLET :\n-> Littérature / Poésie avec PASCAL EN RIMES\n14h-15h Atelier d’écriture de Haïkus (petits poèmes japonais)\n15h-16h Lecture de 6 poèmes issus de sa trilogie Songes Poétiques\n16h-16h30 Pot de l’amitié\n16h30-17h Vente et dédicace de ses recueils de poèmes\nNB : lectures & ateliers ouverts à tous à partir de 12 ans \n\n🔸LUNDI 5 JUILLET :\n-> Art de la scène / Conte avec LISON GOILLOT\n18h-18h30 Lecture de trois contes (issus de l’album jeunesse Le Panse Coeur de Alexandra Lucchesi) par la comédienne Lison Goillot et mis en musique par Nicolas Morais.\nNB : lecture musicale ouverte à tous à partir de 6 ans. \n\n\n🔸MARDI 6 JUILLET :\n-> Art visuel / Body Art avec MAISSAM ACHCHAQ\n14h-17h Atelier HENNÉ. Tatouages réalisés au henné sur les mains des participants qui pourront trouver des modèles sur internet ou auprès de l’intervenante.\nNB : atelier ouvert aux enfants à partir de 12 ans et avec l’accord des parents pour tatouer les mains \n\n\n🔸MARDI 6 JUILLET :\n-> Musique avec SOS RACISME\n19h-20h30 Concert proposé par SOS RACISME avec ÉCHO DU GOSPEL (groupe de gospel)\,\nMLIT (collectif rap\, chant\, danse)\n& NOMANDLA HALLAM\n(musique & danse d’Afrique du Sud)\nNB : concert ouvert à tous. \n\n\n🔸MERCREDI 7 JUILLET :\n-> Bande Dessinée avec JEAN-LOUIS THOUARD\n9h-12h Atelier avec l’auteur et l’illustrateur Jean-Louis Thouard pour aborder les différents aspects de la création d’une BD. Apprentissage du découpage\, de la recherche des personnages\, du décor\, des costumes\, des mises en scènes et dialogues…\nNB : atelier ouvert à tous à partir de 7 ans. \n\n\n🔸MERCREDI 7 JUILLET :\n-> Cirque avec la Compagnie CIRKA DANSE\n16h-18h Ateliers cirque (fil de fer\, boule d’équilibre\, rolla bolla\, jonglage\, mini-trampoline)\n21h30 Spectacle de jonglerie de feu\nNB : ateliers et spectacle ouverts à tous à partir de 6 ans \n\n\n🔸JEUDI 8 JUILLET :\n-> Cinéma avec la FRMJC\n10h-12h Atelier cinéma : jeux d’optique et pré-cinéma (manipulation et fabrication d’objets)\n16h-16h30 Pot de l’amitié\n16h30-18h Suite de l’atelier cinéma : jeu “42 femmes et bien plus” (jeu de 7 familles réunissant 42 figures féminines de l’histoire du cinéma en 11 métiers sur les 5 continents illustré par 7 femmes).\nNB : ateliers ouverts à tous à partir de 6 ans \n\n🔸JEUDI 8 JUILLET :\n-> Ciné Plein Air au Parc des Grésilles\n21h30-21h45 Projection du court-métrage “Au Bord de la Ville\, Au Bord des Gens”\, co-réalisé par 7 jeunes de la Press’MJC\, Fabio Falzone\, Zutique Productions\, Johann Michalczak & Pierre Bompy.\n21h45-23h15 Projection du film d’animation Abominable pour toute la famille\nNB : séance ouverte à tous \n\n\n🔸VENDREDI 9 JUILLET :\n-> Poésie / Slam avec SAN-SEYHA\n9h-12h Atelier slam avec l’auteur\, chanteur et slammeur San-Seyha (compagnie Les Destins Animés).\nAtelier d’écriture autour du récit de soi par le biais d’exercices ludiques.\nNB : atelier ouvert à tous à partir de 12 ans \n\n\n🔸VENDREDI 9 JUILLET :\n-> Sérigraphie avec LE TÂCHE PAPIER\n14h-16h Atelier sérigraphie (technique d’impression artisanale accessible à tous)\nVenez mettre en affiche mots\, slams\, rimes et poésies puis repartez avec votre création !\n16h-16h30 Pot de l’amitié\nNB : ateliers ouverts à tous à partir de 6 ans
URL:http://bourgogne-franche-comte.frmjc.org/evenement/le-grand-bazart-mjc-gresilles/
LOCATION:MJC des Grésilles\, Dijon
CATEGORIES:Manifestation culturelle
ATTACH;FMTTYPE=image/jpeg:http://bourgogne-franche-comte.frmjc.org/wp-content/uploads/2021/06/208093644_1968176860013140_4237430813951574830_n.jpg
END:VEVENT
BEGIN:VEVENT
DTSTART;TZID=Europe/Paris:20210707T123000
DTEND;TZID=Europe/Paris:20210707T193000
DTSTAMP:20260424T053222
CREATED:20210707T073308Z
LAST-MODIFIED:20210707T073321Z
UID:10547-1625661000-1625686200@bourgogne-franche-comte.frmjc.org
SUMMARY:Les Murmures de Montchapet - expérimentations sonores en marchant
DESCRIPTION://LES MURMURES – SIESTES SONORES POUR TRANSATS // \nA l’aube des vacances\, on te propose de prendre un peu d’avance et de venir «siester» à nos côtés dans Montchapet le temps de siestes sonores : un rdv farniente pour une plongée au creux des sons du quartier\, des mots de ses habitants. Casques sur les oreilles\, depuis un transat\, à même la rue\, écoute… c’est Montchapet qui se raconte !\nBeaucoup nous posent la question : “Pour participer – dois-je apporter mon casque? ” : Tu n’as besoin de rien\, juste toi et d’une curiosité joyeuse\, on prépare tout ! casques et transats seront de sortie ! Reste plus qu’à espérer que le soleil se fasse moins timide !\nDans ces siestes sonores\, résonneront les sons des Murmures de Montchapet\, mais Les Murmures c’est quoi ?\nUn projet participatif avec les habitants & partenaires du quartier aux côtés de Pauline Lasson\navec le soutien du Panda – Centre Multimédia de Dijon\npar la MJC-CS Montchapet & la Commission de quartier Montchapet \nLes siestes sonores c’est quand ? \nPlace Dard mercredi 7/07 après midi 14h15-17h\nParc Ganne devant MJC mercredi 7/07 17h30-19h30\nPlace Barbe mercredi 21/07 après midi 12h30- 15h
URL:http://bourgogne-franche-comte.frmjc.org/evenement/les-murmures-de-montchapet-experimentations-sonores-en-marchant/
LOCATION:MJC CS Montchapet
CATEGORIES:Manifestation culturelle
ATTACH;FMTTYPE=image/jpeg:http://bourgogne-franche-comte.frmjc.org/wp-content/uploads/2021/07/213775563_1618265278381752_4215874696184381308_n.jpg
END:VEVENT
END:VCALENDAR