BEGIN:VCALENDAR
VERSION:2.0
PRODID:-//Fédération régionale des MJC Bourgogne-Franche-Comté - ECPv6.15.20//NONSGML v1.0//EN
CALSCALE:GREGORIAN
METHOD:PUBLISH
X-ORIGINAL-URL:http://bourgogne-franche-comte.frmjc.org
X-WR-CALDESC:Évènements pour Fédération régionale des MJC Bourgogne-Franche-Comté
REFRESH-INTERVAL;VALUE=DURATION:PT1H
X-Robots-Tag:noindex
X-PUBLISHED-TTL:PT1H
BEGIN:VTIMEZONE
TZID:Europe/Paris
BEGIN:DAYLIGHT
TZOFFSETFROM:+0100
TZOFFSETTO:+0200
TZNAME:CEST
DTSTART:20210328T010000
END:DAYLIGHT
BEGIN:STANDARD
TZOFFSETFROM:+0200
TZOFFSETTO:+0100
TZNAME:CET
DTSTART:20211031T010000
END:STANDARD
BEGIN:DAYLIGHT
TZOFFSETFROM:+0100
TZOFFSETTO:+0200
TZNAME:CEST
DTSTART:20220327T010000
END:DAYLIGHT
BEGIN:STANDARD
TZOFFSETFROM:+0200
TZOFFSETTO:+0100
TZNAME:CET
DTSTART:20221030T010000
END:STANDARD
BEGIN:DAYLIGHT
TZOFFSETFROM:+0100
TZOFFSETTO:+0200
TZNAME:CEST
DTSTART:20230326T010000
END:DAYLIGHT
BEGIN:STANDARD
TZOFFSETFROM:+0200
TZOFFSETTO:+0100
TZNAME:CET
DTSTART:20231029T010000
END:STANDARD
END:VTIMEZONE
BEGIN:VEVENT
DTSTART;VALUE=DATE:20220701
DTEND;VALUE=DATE:20220702
DTSTAMP:20260421T082710
CREATED:20220414T083423Z
LAST-MODIFIED:20220414T084215Z
UID:12881-1656633600-1656719999@bourgogne-franche-comte.frmjc.org
SUMMARY:Conférence régionale de la vie associative
DESCRIPTION:Le Mouvement associatif Bourgogne-Franche-Comté en collaboration avec la DRAJES et la Région Bourgogne-Franche-Comté \, organise une Conférence Régionale de la Vie Associative le 1er juillet 2022 (date anniversaire de la Loi 1901).\n\n  \nCette première édition\, pour la région Bourgogne-Franche-Comté\, est à destination de toutes les associations et de celles et ceux qui les font vivre.\nLa crise sanitaire et ses multiples effets ont rappelé la place importante des associations dans notre société. Cette crise a aussi bousculé nos manières d’interagir et a poussé beaucoup de structures associatives à se réinventer.\n\n\nIl est temps de se projeter collectivement vers l’avenir et de « PENSER NOS ASSOCIATIONS DE DEMAIN ».\n  \nC’est ce que Le Mouvement associatif et ses partenaires vous invitent à faire le 1er juillet 2022 au Centre de Rencontres Internationales et de Séjour à Dijon.\n\n  \n\n@leMouvAsso_BFC\n#vieassociative #avenirassociations #Loi1901
URL:http://bourgogne-franche-comte.frmjc.org/evenement/conference-regionale-de-la-vie-associative/
LOCATION:Centre International de Séjour\, 1 avenue Champollion\, DIJON\, 21000\, France
CATEGORIES:Conférence
ATTACH;FMTTYPE=image/png:http://bourgogne-franche-comte.frmjc.org/wp-content/uploads/2022/04/conf-regionale-vie-asso-affiche-e1649925350399.png
END:VEVENT
END:VCALENDAR