BEGIN:VCALENDAR
VERSION:2.0
PRODID:-//Fédération régionale des MJC Bourgogne-Franche-Comté - ECPv6.15.20//NONSGML v1.0//EN
CALSCALE:GREGORIAN
METHOD:PUBLISH
X-ORIGINAL-URL:http://bourgogne-franche-comte.frmjc.org
X-WR-CALDESC:Évènements pour Fédération régionale des MJC Bourgogne-Franche-Comté
REFRESH-INTERVAL;VALUE=DURATION:PT1H
X-Robots-Tag:noindex
X-PUBLISHED-TTL:PT1H
BEGIN:VTIMEZONE
TZID:Europe/Paris
BEGIN:DAYLIGHT
TZOFFSETFROM:+0100
TZOFFSETTO:+0200
TZNAME:CEST
DTSTART:20210328T010000
END:DAYLIGHT
BEGIN:STANDARD
TZOFFSETFROM:+0200
TZOFFSETTO:+0100
TZNAME:CET
DTSTART:20211031T010000
END:STANDARD
BEGIN:DAYLIGHT
TZOFFSETFROM:+0100
TZOFFSETTO:+0200
TZNAME:CEST
DTSTART:20220327T010000
END:DAYLIGHT
BEGIN:STANDARD
TZOFFSETFROM:+0200
TZOFFSETTO:+0100
TZNAME:CET
DTSTART:20221030T010000
END:STANDARD
BEGIN:DAYLIGHT
TZOFFSETFROM:+0100
TZOFFSETTO:+0200
TZNAME:CEST
DTSTART:20230326T010000
END:DAYLIGHT
BEGIN:STANDARD
TZOFFSETFROM:+0200
TZOFFSETTO:+0100
TZNAME:CET
DTSTART:20231029T010000
END:STANDARD
END:VTIMEZONE
BEGIN:VEVENT
DTSTART;VALUE=DATE:20220207
DTEND;VALUE=DATE:20220301
DTSTAMP:20260425T132547
CREATED:20220207T092538Z
LAST-MODIFIED:20220207T092812Z
UID:12359-1644192000-1646092799@bourgogne-franche-comte.frmjc.org
SUMMARY:Exposition Ar(t)bres
DESCRIPTION:Les ateliers d’Arts plastiques de la MJC des Capucins-centre Berlioz et Melania vous invitent à  une exposition sur le thème des arbres jusqu’au 28 février 2022… Une première série de tableaux et du 1er mars au 31 mars 2022\, une deuxième série de tableaux… N’hésitez pas à venir faire un tour aux horaires du magasin!
URL:http://bourgogne-franche-comte.frmjc.org/evenement/exposition-artbres/
LOCATION:La Tisanerie\, 2 rue Notre Dame\, Pontarlier\, 25300\, France
CATEGORIES:Exposition
ATTACH;FMTTYPE=image/jpeg:http://bourgogne-franche-comte.frmjc.org/wp-content/uploads/2022/02/arbre.jpg
ORGANIZER;CN="MJC des Capucins - Centre Berlioz":MAILTO:mjcdescapucins@wanadoo.fr
END:VEVENT
END:VCALENDAR