BEGIN:VCALENDAR
VERSION:2.0
PRODID:-//Fédération régionale des MJC Bourgogne-Franche-Comté - ECPv6.15.20//NONSGML v1.0//EN
CALSCALE:GREGORIAN
METHOD:PUBLISH
X-ORIGINAL-URL:http://bourgogne-franche-comte.frmjc.org
X-WR-CALDESC:Évènements pour Fédération régionale des MJC Bourgogne-Franche-Comté
REFRESH-INTERVAL;VALUE=DURATION:PT1H
X-Robots-Tag:noindex
X-PUBLISHED-TTL:PT1H
BEGIN:VTIMEZONE
TZID:Europe/Paris
BEGIN:DAYLIGHT
TZOFFSETFROM:+0100
TZOFFSETTO:+0200
TZNAME:CEST
DTSTART:20210328T010000
END:DAYLIGHT
BEGIN:STANDARD
TZOFFSETFROM:+0200
TZOFFSETTO:+0100
TZNAME:CET
DTSTART:20211031T010000
END:STANDARD
BEGIN:DAYLIGHT
TZOFFSETFROM:+0100
TZOFFSETTO:+0200
TZNAME:CEST
DTSTART:20220327T010000
END:DAYLIGHT
BEGIN:STANDARD
TZOFFSETFROM:+0200
TZOFFSETTO:+0100
TZNAME:CET
DTSTART:20221030T010000
END:STANDARD
BEGIN:DAYLIGHT
TZOFFSETFROM:+0100
TZOFFSETTO:+0200
TZNAME:CEST
DTSTART:20230326T010000
END:DAYLIGHT
BEGIN:STANDARD
TZOFFSETFROM:+0200
TZOFFSETTO:+0100
TZNAME:CET
DTSTART:20231029T010000
END:STANDARD
END:VTIMEZONE
BEGIN:VEVENT
DTSTART;VALUE=DATE:20220207
DTEND;VALUE=DATE:20220301
DTSTAMP:20260425T132547
CREATED:20220207T092538Z
LAST-MODIFIED:20220207T092812Z
UID:12359-1644192000-1646092799@bourgogne-franche-comte.frmjc.org
SUMMARY:Exposition Ar(t)bres
DESCRIPTION:Les ateliers d’Arts plastiques de la MJC des Capucins-centre Berlioz et Melania vous invitent à  une exposition sur le thème des arbres jusqu’au 28 février 2022… Une première série de tableaux et du 1er mars au 31 mars 2022\, une deuxième série de tableaux… N’hésitez pas à venir faire un tour aux horaires du magasin!
URL:http://bourgogne-franche-comte.frmjc.org/evenement/exposition-artbres/
LOCATION:La Tisanerie\, 2 rue Notre Dame\, Pontarlier\, 25300\, France
CATEGORIES:Exposition
ATTACH;FMTTYPE=image/jpeg:http://bourgogne-franche-comte.frmjc.org/wp-content/uploads/2022/02/arbre.jpg
ORGANIZER;CN="MJC des Capucins - Centre Berlioz":MAILTO:mjcdescapucins@wanadoo.fr
END:VEVENT
BEGIN:VEVENT
DTSTART;VALUE=DATE:20220212
DTEND;VALUE=DATE:20220213
DTSTAMP:20260425T132547
CREATED:20220207T090913Z
LAST-MODIFIED:20220207T091910Z
UID:12349-1644624000-1644710399@bourgogne-franche-comte.frmjc.org
SUMMARY:Atelier Regard sur la ville - Illustrer le présent par la ville #2
DESCRIPTION:Quel regard portons nous sur la ville ?\nUn cheminement pour (re)prendre possession des lieux et le (re)découvrir\, avec encore une fois le dessin à la fois comme support\, mais aussi comme espace d’expression\, d’imaginaire et d’émancipation. Il s’agira pour conclure de s’approprier collectivement le bâtiment de la MJC André Malraux  et d’y réaliser une composition plastique.\n…………………………………………………………\n-Samedi 12/02 de 9h/12h : dessin dans la ville\n– Samedi 12/02 de 14h/18h : mise au point du projet et exécution des peintures sur papier\n…………………………………………………………\n– Samedi 26/02 de 14h/18h : finition des peintures (découpage etc.) et installation sur les façades\n…………………………………………………………\n\nSUR RÉSERVATION : 03 80 92 12 31 – mjc.montbard@gmail.com\n\nAdhésion MJC + 80 € les deux ateliers (les inscrit.e.s de la 1ère session sont exonéré.e.s de la participation et seront prioritaires). 10 h d’atelier en tout
URL:http://bourgogne-franche-comte.frmjc.org/evenement/atelier-regard-sur-la-ville-illustrer-le-present-par-la-ville-2/
LOCATION:MJC André Malraux\, Avenue du Maréchal de Lattre de Tassigny\, MONTBARD\, 21500
CATEGORIES:Atelier
ATTACH;FMTTYPE=image/jpeg:http://bourgogne-franche-comte.frmjc.org/wp-content/uploads/2022/02/atelierregardsurlaville-e1644224885819.jpg
END:VEVENT
BEGIN:VEVENT
DTSTART;TZID=Europe/Paris:20220212T150000
DTEND;TZID=Europe/Paris:20220212T160000
DTSTAMP:20260425T132547
CREATED:20220128T153402Z
LAST-MODIFIED:20220128T153402Z
UID:12245-1644678000-1644681600@bourgogne-franche-comte.frmjc.org
SUMMARY:Festival Tournez Bobines - Séance coup de projecteur !
DESCRIPTION:Séance de lancement du festival Tournez Bobines en présence des élus du Conseil départemental de Côte-d’Or\, des élus de la commune du Selongey et des bénévoles de l’association Ciné Rencontres de Selongey. \nAu programme : \n\n15h : Discours des élus.\nDiffusion du film Princesse Dragon d’Antony Roux et Jean Jacques Denis.\nAtelier spectacle participatif sur le son au cinéma avec Jean Carl Feldis\, compositeur\, bruiteur et musicien : plein feux sur le bruitage\, le doublage et la musique ! Les participants pourront jouer ensemble sur les différentes textures des\nsons et donner vie à un fragment d’histoire en mouvement.\nAtelier pré-cinéma pour jouer avec l’ancêtre du cinéma et les jeux d’optiques animé par les Tourneurs de Côte-d’Or.\nAtelier Mashup pour créer son propre film et jouer les dj’ de la vidéo animé par les Tourneurs de Côte-d’Or : outil nomade d’expérimentation audiovisuelle\, la Table Mashup repense complètement la question du montage cinématographique\,\ngrâce à son aspect collaboratif et ludique qui plaira aux petits comme aux plus grands.\nPrésentation d’ouvrages mis à disposition par le Conseil départemental de Côte-d’Or par la Médiathèque de Côte-d’Or.\nGoûter\, cadeaux et plein d’autres surprises !
URL:http://bourgogne-franche-comte.frmjc.org/evenement/festival-tournez-bobines-seance-coup-de-projecteur/
LOCATION:Salle du foyer Lescure\, rue Jevain\, SELONGEY\, 21260\, France
CATEGORIES:Cinéma
ATTACH;FMTTYPE=image/png:http://bourgogne-franche-comte.frmjc.org/wp-content/uploads/2022/01/tournezbobinesdetourage2022-1.png
END:VEVENT
BEGIN:VEVENT
DTSTART;TZID=Europe/Paris:20220212T203000
DTEND;TZID=Europe/Paris:20220212T223000
DTSTAMP:20260425T132547
CREATED:20220131T112043Z
LAST-MODIFIED:20220131T112043Z
UID:12316-1644697800-1644705000@bourgogne-franche-comte.frmjc.org
SUMMARY:Projection : Spider-man : no way home - Selongey
DESCRIPTION:Du 12 au 23 février 2022\, Les Tourneurs de Côte-d’Or et les points de projection partenaires du circuit vous proposent de retrouver Spider-man pour de nouvelles aventures à couper le souffle !\n\nFilm d’action de Jon Wattss (2021) / 2h29\nAvec Tom Holland\, Zendaya\, Benedict Cumberbatch…\n\nPour la première fois dans son histoire cinématographique\, Spider-Man\, le héros sympa du quartier est démasqué et ne peut désormais plus séparer sa vie normale de ses lourdes responsabilités de super-héros. Quand il demande de l’aide à Doctor Strange\, les enjeux deviennent encore plus dangereux\, le forçant à découvrir ce qu’être Spider-Man signifie véritablement.\n\n\n________________________________________\n\n\nTarif normal 5.50€\nTarif réduit 4.50€\nCarte d’abonnement : 22.50€ pour 5 entrées\n Normes sanitaires en vigueur :\nPort du masque obligatoire à partir de 6 ans\nConsommation de produits alimentaires ou boissons interdits pendant la projection\nL’accès à la séance est soumis à : la présentation d’un pass sanitaire valide à partir de 12 ans et 2 mois\, d’un pass vaccinal valide à partir de 16 ans
URL:http://bourgogne-franche-comte.frmjc.org/evenement/projection-spider-man-no-way-home-selongey/
LOCATION:Salle du foyer Lescure\, rue Jevain\, SELONGEY\, 21260\, France
CATEGORIES:Cinéma
ATTACH;FMTTYPE=image/jpeg:http://bourgogne-franche-comte.frmjc.org/wp-content/uploads/2022/01/spiderman-e1643627585554.jpg
END:VEVENT
END:VCALENDAR