BEGIN:VCALENDAR
VERSION:2.0
PRODID:-//Fédération régionale des MJC Bourgogne-Franche-Comté - ECPv6.15.20//NONSGML v1.0//EN
CALSCALE:GREGORIAN
METHOD:PUBLISH
X-WR-CALNAME:Fédération régionale des MJC Bourgogne-Franche-Comté
X-ORIGINAL-URL:http://bourgogne-franche-comte.frmjc.org
X-WR-CALDESC:Évènements pour Fédération régionale des MJC Bourgogne-Franche-Comté
REFRESH-INTERVAL;VALUE=DURATION:PT1H
X-Robots-Tag:noindex
X-PUBLISHED-TTL:PT1H
BEGIN:VTIMEZONE
TZID:Europe/Paris
BEGIN:DAYLIGHT
TZOFFSETFROM:+0100
TZOFFSETTO:+0200
TZNAME:CEST
DTSTART:20200329T010000
END:DAYLIGHT
BEGIN:STANDARD
TZOFFSETFROM:+0200
TZOFFSETTO:+0100
TZNAME:CET
DTSTART:20201025T010000
END:STANDARD
BEGIN:DAYLIGHT
TZOFFSETFROM:+0100
TZOFFSETTO:+0200
TZNAME:CEST
DTSTART:20210328T010000
END:DAYLIGHT
BEGIN:STANDARD
TZOFFSETFROM:+0200
TZOFFSETTO:+0100
TZNAME:CET
DTSTART:20211031T010000
END:STANDARD
BEGIN:DAYLIGHT
TZOFFSETFROM:+0100
TZOFFSETTO:+0200
TZNAME:CEST
DTSTART:20220327T010000
END:DAYLIGHT
BEGIN:STANDARD
TZOFFSETFROM:+0200
TZOFFSETTO:+0100
TZNAME:CET
DTSTART:20221030T010000
END:STANDARD
END:VTIMEZONE
BEGIN:VEVENT
DTSTART;TZID=Europe/Paris:20210715T080000
DTEND;TZID=Europe/Paris:20210725T170000
DTSTAMP:20260426T004514
CREATED:20210705T122632Z
LAST-MODIFIED:20210705T122632Z
UID:10518-1626336000-1627232400@bourgogne-franche-comte.frmjc.org
SUMMARY:Un été culturel - MJC Montbard
DESCRIPTION:Chargée par la Direction Régionale des Affaires Culturelles Bourgogne-Franche-Comté (Ministère de la Culture) d’animer le dispositif  ” un été culturel ” pour Montbard\, le Montbardois et bien plus encore\, la Maison des Jeunes et de la Culture – Espace de Vie Sociale André Malraux de Montbard proposera du 15 au 25 juillet un festival d’ateliers artistiques et culturels\, mais aussi expo\, projection\, concert et spectacle … \nTout sera gratuit et destiné aux enfants\, jeunes et familles avec plus d’une dizaine d’artistes et intervenant·e·s invité·e·s et presque autant d’ateliers : \nTom Bouchet (vidéaste et réalisateur)\, Sarah Holveck (artiste plasticienne / résidente de pauline perplexe)\, Vincent Nodale (architecte)\, Marcela Paz Undurraga (artiste plasticienne\, sculpteur – céramiste)\, Oumar Sanou (artiste danseur – chorégraphe)\, Gaëlle Cognée (artiste plasticienne vidéaste\, artiste associée à la MJC)\, Issouf Gaston Ouattara (artiste musicien)\, Luca Guizzo (artiste plasticien\, sculpteur)\, Yoann Piovoso (artiste musicien – membre de la générale d’expérimentation)\, Clotilde Lebas (anthropologue et lectrice). \nPetit ou grand\, ça va bouillonner\, créer\, s’amuser pendant ces 10 jours à la MJC !
URL:http://bourgogne-franche-comte.frmjc.org/evenement/un-ete-culturel-mjc-montbard/
LOCATION:MJC Montbard
CATEGORIES:Manifestation culturelle
ATTACH;FMTTYPE=image/png:http://bourgogne-franche-comte.frmjc.org/wp-content/uploads/2021/07/mjc.png
END:VEVENT
BEGIN:VEVENT
DTSTART;TZID=Europe/Paris:20210722T220000
DTEND;TZID=Europe/Paris:20210722T220000
DTSTAMP:20260426T004514
CREATED:20210624T091052Z
LAST-MODIFIED:20210624T091105Z
UID:10238-1626991200-1626991200@bourgogne-franche-comte.frmjc.org
SUMMARY:Une toile sous les étoiles : l'Ascension
DESCRIPTION:Les Tourneurs de Côte-d’Or et la Maison-phare vous proposent de profiter d’une séance de cinéma en plein air.\n A l’affiche : \n\nL’Ascension de Ludovic Bernard avec Ahmed Sylla\, Alice Belaïdi\, Kevin Razy [1h 43min / Comédie]\n« Pour toi\, je pourrais gravir l’Everest !» Samy aurait mieux fait de se taire ce jour-là… D’autant que Nadia ne croit pas beaucoup à ses belles paroles. Et pourtant… Par amour pour elle\, Samy quitte sa cité HLM et part gravir les mythiques 8848 mètres qui font de l’Everest le Toit du monde. Un départ qui fait vibrer ses copains\, puis tout le 9-3 et c’est bientôt la France entière qui suit avec émotion les exploits de ce jeune mec ordinaire mais amoureux. A la clé\, un message d’espoir : à chacun d’inventer son avenir\, puisque tout est possible. \n\nPour plus d’informations concernant la séance\, contactez directement la Maison-phare : https://lamaisonphare.fr/
URL:http://bourgogne-franche-comte.frmjc.org/evenement/une-toile-sous-les-etoiles-lascension/
LOCATION:Cour Ecole Champs Perdrix\, 3 rue du Morvan\, Dijon\, 21000
CATEGORIES:Cinéma
ATTACH;FMTTYPE=image/jpeg:http://bourgogne-franche-comte.frmjc.org/wp-content/uploads/2021/06/lascension.jpg
END:VEVENT
END:VCALENDAR