BEGIN:VCALENDAR
VERSION:2.0
PRODID:-//Fédération régionale des MJC Bourgogne-Franche-Comté - ECPv6.15.20//NONSGML v1.0//EN
CALSCALE:GREGORIAN
METHOD:PUBLISH
X-WR-CALNAME:Fédération régionale des MJC Bourgogne-Franche-Comté
X-ORIGINAL-URL:http://bourgogne-franche-comte.frmjc.org
X-WR-CALDESC:Évènements pour Fédération régionale des MJC Bourgogne-Franche-Comté
REFRESH-INTERVAL;VALUE=DURATION:PT1H
X-Robots-Tag:noindex
X-PUBLISHED-TTL:PT1H
BEGIN:VTIMEZONE
TZID:Europe/Paris
BEGIN:DAYLIGHT
TZOFFSETFROM:+0100
TZOFFSETTO:+0200
TZNAME:CEST
DTSTART:20200329T010000
END:DAYLIGHT
BEGIN:STANDARD
TZOFFSETFROM:+0200
TZOFFSETTO:+0100
TZNAME:CET
DTSTART:20201025T010000
END:STANDARD
BEGIN:DAYLIGHT
TZOFFSETFROM:+0100
TZOFFSETTO:+0200
TZNAME:CEST
DTSTART:20210328T010000
END:DAYLIGHT
BEGIN:STANDARD
TZOFFSETFROM:+0200
TZOFFSETTO:+0100
TZNAME:CET
DTSTART:20211031T010000
END:STANDARD
BEGIN:DAYLIGHT
TZOFFSETFROM:+0100
TZOFFSETTO:+0200
TZNAME:CEST
DTSTART:20220327T010000
END:DAYLIGHT
BEGIN:STANDARD
TZOFFSETFROM:+0200
TZOFFSETTO:+0100
TZNAME:CET
DTSTART:20221030T010000
END:STANDARD
END:VTIMEZONE
BEGIN:VEVENT
DTSTART;TZID=Europe/Paris:20210715T080000
DTEND;TZID=Europe/Paris:20210725T170000
DTSTAMP:20260426T004401
CREATED:20210705T122632Z
LAST-MODIFIED:20210705T122632Z
UID:10518-1626336000-1627232400@bourgogne-franche-comte.frmjc.org
SUMMARY:Un été culturel - MJC Montbard
DESCRIPTION:Chargée par la Direction Régionale des Affaires Culturelles Bourgogne-Franche-Comté (Ministère de la Culture) d’animer le dispositif  ” un été culturel ” pour Montbard\, le Montbardois et bien plus encore\, la Maison des Jeunes et de la Culture – Espace de Vie Sociale André Malraux de Montbard proposera du 15 au 25 juillet un festival d’ateliers artistiques et culturels\, mais aussi expo\, projection\, concert et spectacle … \nTout sera gratuit et destiné aux enfants\, jeunes et familles avec plus d’une dizaine d’artistes et intervenant·e·s invité·e·s et presque autant d’ateliers : \nTom Bouchet (vidéaste et réalisateur)\, Sarah Holveck (artiste plasticienne / résidente de pauline perplexe)\, Vincent Nodale (architecte)\, Marcela Paz Undurraga (artiste plasticienne\, sculpteur – céramiste)\, Oumar Sanou (artiste danseur – chorégraphe)\, Gaëlle Cognée (artiste plasticienne vidéaste\, artiste associée à la MJC)\, Issouf Gaston Ouattara (artiste musicien)\, Luca Guizzo (artiste plasticien\, sculpteur)\, Yoann Piovoso (artiste musicien – membre de la générale d’expérimentation)\, Clotilde Lebas (anthropologue et lectrice). \nPetit ou grand\, ça va bouillonner\, créer\, s’amuser pendant ces 10 jours à la MJC !
URL:http://bourgogne-franche-comte.frmjc.org/evenement/un-ete-culturel-mjc-montbard/
LOCATION:MJC Montbard
CATEGORIES:Manifestation culturelle
ATTACH;FMTTYPE=image/png:http://bourgogne-franche-comte.frmjc.org/wp-content/uploads/2021/07/mjc.png
END:VEVENT
BEGIN:VEVENT
DTSTART;TZID=Europe/Paris:20210717T220000
DTEND;TZID=Europe/Paris:20210717T220000
DTSTAMP:20260426T004401
CREATED:20210623T120855Z
LAST-MODIFIED:20210623T120855Z
UID:10215-1626559200-1626559200@bourgogne-franche-comte.frmjc.org
SUMMARY:Une toile sous les étoiles : Joyeuse retraite !
DESCRIPTION: Les Tourneurs de Côte-d’Or vous proposent de profiter d’une séance de cinéma en plein air.\n\n\n A L’AFFICHE : \nJoyeuse retraite ! de Fabrice Bracq • Avec  Thierry Lhermitte\, Michèle Laroque\, Nicole Ferroni • 1h 37min • Comédie\n\nMarilou et Philippe se préparent à leur future retraite au Portugal\, pour enfin goûter à un peu de tranquillité sous le soleil. Cependant\, lorsque leur fille se sépare de son petit ami avec perte et fracas\, tout un cortège de sollicitations s’abat sur eux.\n\n Accès :\nSite Les Fourneaux\n71700 Plottes
URL:http://bourgogne-franche-comte.frmjc.org/evenement/une-toile-sous-les-etoiles-joyeuse-retraite/
LOCATION:Site Les Fourneaux\, Plottes\, 71700
CATEGORIES:Cinéma
ATTACH;FMTTYPE=image/jpeg:http://bourgogne-franche-comte.frmjc.org/wp-content/uploads/2021/06/joyeuse-retraire.jpg
END:VEVENT
BEGIN:VEVENT
DTSTART;TZID=Europe/Paris:20210717T220000
DTEND;TZID=Europe/Paris:20210717T220000
DTSTAMP:20260426T004401
CREATED:20210623T121400Z
LAST-MODIFIED:20210623T121400Z
UID:10219-1626559200-1626559200@bourgogne-franche-comte.frmjc.org
SUMMARY:Une toile sous les étoiles : Hôtel Transylvania 3
DESCRIPTION:Les Tourneurs de Côte-d’Or et la MJC Centre social de Montchapet vous proposent de profiter d’une séance de cinéma en plein air.\n\n\n A L’AFFICHE : \nHôtel Transylvania 3 De Genndy Tartakovsky • Avec  Serge Faliu\, Diane Dassigny\, Gauthier Battoue • 1h 37min • Animation\, Comédie\n\n\nNotre famille de monstres préférée embarque pour une croisière de rêve afin que Drac puisse enfin souffler un peu et savourer des vacances au lieu de s’occuper de tout le monde à l’hôtel. Tout s’annonce à merveille pour la petite famille\, entre matchs de volley monstres\, excursions exotiques et séances de bronzette au clair de lune… Mais les vacances idéales prennent un tour inattendu lorsque Mavis se rend compte que Drac est tombé sous le charme de la mystérieuse Ericka\, la capitaine humaine du navire\, dont le secret les menace tous.\n\nPour tout renseignement\, contactez directement la MJC Centre Social Montchapet.\n\n\n Accès :\nSquare des Génois\n21000 Dijon
URL:http://bourgogne-franche-comte.frmjc.org/evenement/une-toile-sous-les-etoiles-hotel-transylvania-3/
LOCATION:Square des Génois\, Dijon\, 21000
CATEGORIES:Cinéma
ATTACH;FMTTYPE=image/jpeg:http://bourgogne-franche-comte.frmjc.org/wp-content/uploads/2021/06/hotel-tr.jpg
END:VEVENT
END:VCALENDAR