BEGIN:VCALENDAR
VERSION:2.0
PRODID:-//Fédération régionale des MJC Bourgogne-Franche-Comté - ECPv6.15.20//NONSGML v1.0//EN
CALSCALE:GREGORIAN
METHOD:PUBLISH
X-ORIGINAL-URL:http://bourgogne-franche-comte.frmjc.org
X-WR-CALDESC:Évènements pour Fédération régionale des MJC Bourgogne-Franche-Comté
REFRESH-INTERVAL;VALUE=DURATION:PT1H
X-Robots-Tag:noindex
X-PUBLISHED-TTL:PT1H
BEGIN:VTIMEZONE
TZID:Europe/Paris
BEGIN:DAYLIGHT
TZOFFSETFROM:+0100
TZOFFSETTO:+0200
TZNAME:CEST
DTSTART:20200329T010000
END:DAYLIGHT
BEGIN:STANDARD
TZOFFSETFROM:+0200
TZOFFSETTO:+0100
TZNAME:CET
DTSTART:20201025T010000
END:STANDARD
BEGIN:DAYLIGHT
TZOFFSETFROM:+0100
TZOFFSETTO:+0200
TZNAME:CEST
DTSTART:20210328T010000
END:DAYLIGHT
BEGIN:STANDARD
TZOFFSETFROM:+0200
TZOFFSETTO:+0100
TZNAME:CET
DTSTART:20211031T010000
END:STANDARD
BEGIN:DAYLIGHT
TZOFFSETFROM:+0100
TZOFFSETTO:+0200
TZNAME:CEST
DTSTART:20220327T010000
END:DAYLIGHT
BEGIN:STANDARD
TZOFFSETFROM:+0200
TZOFFSETTO:+0100
TZNAME:CET
DTSTART:20221030T010000
END:STANDARD
END:VTIMEZONE
BEGIN:VEVENT
DTSTART;TZID=Europe/Paris:20210707T100000
DTEND;TZID=Europe/Paris:20210716T160000
DTSTAMP:20260426T004746
CREATED:20210630T134335Z
LAST-MODIFIED:20210630T134335Z
UID:10480-1625652000-1626451200@bourgogne-franche-comte.frmjc.org
SUMMARY:Stages d'été - MJC Nuits-Saint-Georges
DESCRIPTION:
URL:http://bourgogne-franche-comte.frmjc.org/evenement/stages-dete-mjc-nuits-saint-georges/
LOCATION:MJC Nuits-Saint-Georges
CATEGORIES:Stage
END:VEVENT
BEGIN:VEVENT
DTSTART;TZID=Europe/Paris:20210713T100000
DTEND;TZID=Europe/Paris:20210716T180000
DTSTAMP:20260426T004746
CREATED:20210629T105808Z
LAST-MODIFIED:20210629T105905Z
UID:10435-1626170400-1626458400@bourgogne-franche-comte.frmjc.org
SUMMARY:Stage informatique - MJC Héritan - Session 2
DESCRIPTION: STAGE INFORMATIQUE DEBUT JUILLET \n\n\n\n Places limitées\, inscription à l’accueil de la MJC.\n\n\n\n Stage adulte – les bases de l’informatique  :\nLors de ces stages\, vous pourrez voir ou revoir les bases de l’informatique ! Créer des mails\, utiliser Word\, Excel\, … etc. On sera là pour aider ! Alors attrapez vos ordinateurs (ou tablettes) et venez apprendre ou réapprendre les bases de l’informatique !\n\n\nSession 1 : du 7\, 8\, 9 juillet de 17h – 18h\n\n\nSession 2 : du 13\, 15\, 16 juillet de 17h – 18h\n\n\nAu programme pour les deux sessions :\n-Bases de Windows\, multimédia\, transfert de fichiers\, création d’adresse mail\n-D’autres points selon la demande…\n\n\nTarifs : 15 euros la session\n\n\n—\n\n\n\n Stage ados – deux stages différents\, un sur la programmation de jeux vidéo\, l’autre sur la programmation de site web :\n\n\nLors de ces stages\, votre enfant s’initiera et/ou se perfectionnera à la programmation informatique ! Au programme : robotique\, algorithmes\, programmation\, animations\, graphisme. Les enfants apprendront à programmer\, créer et innover !\n\n\nProgrammation de Jeux Vidéo \n\n\nSession 1 : 7\, 8\, 9 juillet de 10h – 12h\nSession 2 : 13\, 15\, 16 juillet de 10h – 12h\n\n\nAu programme :\n– Programmation de jeux vidéo\n– Programmation avec Scratch\n– Réalisation des graphismes avec Paint.net et Sound Design\n\n\nTarifs : 30 euros la session\n\n\nProgrammation sur site internet \n\n\nSession 1 : 7\, 8\, 9 juillet de 14h – 16h\n\n\nAu programme :\n– Utilisation du Framework Bootstrap\n– Conception d’un faux site internet (création d’une page\, fausse marque\, faux produits afin d’apprendre à créer un site complet)\n\n\nSession 2 : 13\, 15\, 16 juillet de 14h-16h\n\n\nAu programme :\n– Approfondissement et bases du PHP\n– Découverte bases de données\, utilisation PHP\, amélioration du site web créé avec panel d’administration\, système d’articles\, de création de compte\, etc.\n\n\nTarifs : 30 euros la session
URL:http://bourgogne-franche-comte.frmjc.org/evenement/stage-informatique-mjc-heritan-session-1-2/
LOCATION:MJC Héritan\, 24 rue de l'Héritan\, Mâcon\, 71000\, France
CATEGORIES:Stage
ATTACH;FMTTYPE=image/jpeg:http://bourgogne-franche-comte.frmjc.org/wp-content/uploads/2021/06/203019256_1457387604594675_2612461793691446821_n.jpg
END:VEVENT
BEGIN:VEVENT
DTSTART;TZID=Europe/Paris:20210713T220000
DTEND;TZID=Europe/Paris:20210713T220000
DTSTAMP:20260426T004746
CREATED:20210623T114412Z
LAST-MODIFIED:20210623T114412Z
UID:10197-1626213600-1626213600@bourgogne-franche-comte.frmjc.org
SUMMARY:Une toile sous les étoiles : Le sens de la fête
DESCRIPTION:Les Tourneurs de Côte-d’Or vous proposent de profiter d’une séance de cinéma en plein air.\n\n\n A L’AFFICHE : \nLe sens de la fête de Eric Toledano\, Olivier Nakache • Avec Jean-Pierre Bacri\, Gilles Lellouche\, Eye Haïdara • 1h 56min • Comédie\n\nMax est traiteur depuis trente ans. Des fêtes il en a organisé des centaines\, il est même un peu au bout du parcours. Aujourd’hui c’est un sublime mariage dans un château du 17ème siècle\, un de plus\, celui de Pierre et Héléna. Comme d’habitude\, Max a tout coordonné : il a recruté sa brigade de serveurs\, de cuisiniers\, de plongeurs\, il a conseillé un photographe\, réservé l’orchestre\, arrangé la décoration florale\, bref tous les ingrédients sont réunis pour que cette fête soit réussie… Mais la loi des séries va venir bouleverser un planning sur le fil où chaque moment de bonheur et d’émotion risque de se transformer en désastre ou en chaos. Des préparatifs jusqu’à l’aube\, nous allons vivre les coulisses de cette soirée à travers le regard de ceux qui travaillent et qui devront compter sur leur unique qualité commune : Le sens de la fête.
URL:http://bourgogne-franche-comte.frmjc.org/evenement/une-toile-sous-les-etoiles-le-sens-de-la-fete/
LOCATION:Verger conservatoire\, Saint-Nicolas-Lès-Cîteaux
CATEGORIES:Cinéma
ATTACH;FMTTYPE=image/jpeg:http://bourgogne-franche-comte.frmjc.org/wp-content/uploads/2021/06/le-sens-de-la-fete.jpg
END:VEVENT
END:VCALENDAR