BEGIN:VCALENDAR
VERSION:2.0
PRODID:-//Fédération régionale des MJC Bourgogne-Franche-Comté - ECPv6.15.20//NONSGML v1.0//EN
CALSCALE:GREGORIAN
METHOD:PUBLISH
X-WR-CALNAME:Fédération régionale des MJC Bourgogne-Franche-Comté
X-ORIGINAL-URL:http://bourgogne-franche-comte.frmjc.org
X-WR-CALDESC:Évènements pour Fédération régionale des MJC Bourgogne-Franche-Comté
REFRESH-INTERVAL;VALUE=DURATION:PT1H
X-Robots-Tag:noindex
X-PUBLISHED-TTL:PT1H
BEGIN:VTIMEZONE
TZID:Europe/Paris
BEGIN:DAYLIGHT
TZOFFSETFROM:+0100
TZOFFSETTO:+0200
TZNAME:CEST
DTSTART:20200329T010000
END:DAYLIGHT
BEGIN:STANDARD
TZOFFSETFROM:+0200
TZOFFSETTO:+0100
TZNAME:CET
DTSTART:20201025T010000
END:STANDARD
BEGIN:DAYLIGHT
TZOFFSETFROM:+0100
TZOFFSETTO:+0200
TZNAME:CEST
DTSTART:20210328T010000
END:DAYLIGHT
BEGIN:STANDARD
TZOFFSETFROM:+0200
TZOFFSETTO:+0100
TZNAME:CET
DTSTART:20211031T010000
END:STANDARD
BEGIN:DAYLIGHT
TZOFFSETFROM:+0100
TZOFFSETTO:+0200
TZNAME:CEST
DTSTART:20220327T010000
END:DAYLIGHT
BEGIN:STANDARD
TZOFFSETFROM:+0200
TZOFFSETTO:+0100
TZNAME:CET
DTSTART:20221030T010000
END:STANDARD
END:VTIMEZONE
BEGIN:VEVENT
DTSTART;TZID=Europe/Paris:20210705T140000
DTEND;TZID=Europe/Paris:20210709T170000
DTSTAMP:20260426T004616
CREATED:20210629T124105Z
LAST-MODIFIED:20210629T124105Z
UID:10438-1625493600-1625850000@bourgogne-franche-comte.frmjc.org
SUMMARY:LE GRAND BAZ'ART - MJC Grésilles
DESCRIPTION:Le Grand BAZ’ART :\n\n\nLe grand BAZ’ART est une semaine culturelle organisée par la MJC Dijon Grésilles du 5 au 9 juillet 2021 qui a pour objectif de faire découvrir aux participants différentes formes artistiques au travers d’ateliers et de spectacles.\nDes animations pour toutes et tous sont proposées pour ravir petits & grands !\nAu cours des ateliers la journée\, les participants peuvent laisser libre cours à leur imagination & à leur créativité en s’initiant à de nombreuses pratiques artistiques.\nLe soir\, place à l’enchantement : pour s’évader\, concerts & spectacles sont proposés.\nTous les événements de cette semaine culturelle se déroulent au KIWI\, le jardin de la MJC* (ou dans ses murs en cas d’intempéries)\, sont GRATUITS\net sur inscription (s’adresser à l’accueil de la MJC : 03 80 71 55 24)\n*à l’exception du Ciné Plein Air au Parc des Grésilles\nDétail de la programmation :\n\n🔸 LUNDI 5 JUILLET :\n-> Littérature / Poésie avec PASCAL EN RIMES\n14h-15h Atelier d’écriture de Haïkus (petits poèmes japonais)\n15h-16h Lecture de 6 poèmes issus de sa trilogie Songes Poétiques\n16h-16h30 Pot de l’amitié\n16h30-17h Vente et dédicace de ses recueils de poèmes\nNB : lectures & ateliers ouverts à tous à partir de 12 ans \n\n🔸LUNDI 5 JUILLET :\n-> Art de la scène / Conte avec LISON GOILLOT\n18h-18h30 Lecture de trois contes (issus de l’album jeunesse Le Panse Coeur de Alexandra Lucchesi) par la comédienne Lison Goillot et mis en musique par Nicolas Morais.\nNB : lecture musicale ouverte à tous à partir de 6 ans. \n\n\n🔸MARDI 6 JUILLET :\n-> Art visuel / Body Art avec MAISSAM ACHCHAQ\n14h-17h Atelier HENNÉ. Tatouages réalisés au henné sur les mains des participants qui pourront trouver des modèles sur internet ou auprès de l’intervenante.\nNB : atelier ouvert aux enfants à partir de 12 ans et avec l’accord des parents pour tatouer les mains \n\n\n🔸MARDI 6 JUILLET :\n-> Musique avec SOS RACISME\n19h-20h30 Concert proposé par SOS RACISME avec ÉCHO DU GOSPEL (groupe de gospel)\,\nMLIT (collectif rap\, chant\, danse)\n& NOMANDLA HALLAM\n(musique & danse d’Afrique du Sud)\nNB : concert ouvert à tous. \n\n\n🔸MERCREDI 7 JUILLET :\n-> Bande Dessinée avec JEAN-LOUIS THOUARD\n9h-12h Atelier avec l’auteur et l’illustrateur Jean-Louis Thouard pour aborder les différents aspects de la création d’une BD. Apprentissage du découpage\, de la recherche des personnages\, du décor\, des costumes\, des mises en scènes et dialogues…\nNB : atelier ouvert à tous à partir de 7 ans. \n\n\n🔸MERCREDI 7 JUILLET :\n-> Cirque avec la Compagnie CIRKA DANSE\n16h-18h Ateliers cirque (fil de fer\, boule d’équilibre\, rolla bolla\, jonglage\, mini-trampoline)\n21h30 Spectacle de jonglerie de feu\nNB : ateliers et spectacle ouverts à tous à partir de 6 ans \n\n\n🔸JEUDI 8 JUILLET :\n-> Cinéma avec la FRMJC\n10h-12h Atelier cinéma : jeux d’optique et pré-cinéma (manipulation et fabrication d’objets)\n16h-16h30 Pot de l’amitié\n16h30-18h Suite de l’atelier cinéma : jeu “42 femmes et bien plus” (jeu de 7 familles réunissant 42 figures féminines de l’histoire du cinéma en 11 métiers sur les 5 continents illustré par 7 femmes).\nNB : ateliers ouverts à tous à partir de 6 ans \n\n🔸JEUDI 8 JUILLET :\n-> Ciné Plein Air au Parc des Grésilles\n21h30-21h45 Projection du court-métrage “Au Bord de la Ville\, Au Bord des Gens”\, co-réalisé par 7 jeunes de la Press’MJC\, Fabio Falzone\, Zutique Productions\, Johann Michalczak & Pierre Bompy.\n21h45-23h15 Projection du film d’animation Abominable pour toute la famille\nNB : séance ouverte à tous \n\n\n🔸VENDREDI 9 JUILLET :\n-> Poésie / Slam avec SAN-SEYHA\n9h-12h Atelier slam avec l’auteur\, chanteur et slammeur San-Seyha (compagnie Les Destins Animés).\nAtelier d’écriture autour du récit de soi par le biais d’exercices ludiques.\nNB : atelier ouvert à tous à partir de 12 ans \n\n\n🔸VENDREDI 9 JUILLET :\n-> Sérigraphie avec LE TÂCHE PAPIER\n14h-16h Atelier sérigraphie (technique d’impression artisanale accessible à tous)\nVenez mettre en affiche mots\, slams\, rimes et poésies puis repartez avec votre création !\n16h-16h30 Pot de l’amitié\nNB : ateliers ouverts à tous à partir de 6 ans
URL:http://bourgogne-franche-comte.frmjc.org/evenement/le-grand-bazart-mjc-gresilles/
LOCATION:MJC des Grésilles\, Dijon
CATEGORIES:Manifestation culturelle
ATTACH;FMTTYPE=image/jpeg:http://bourgogne-franche-comte.frmjc.org/wp-content/uploads/2021/06/208093644_1968176860013140_4237430813951574830_n.jpg
END:VEVENT
BEGIN:VEVENT
DTSTART;TZID=Europe/Paris:20210707T100000
DTEND;TZID=Europe/Paris:20210709T180000
DTSTAMP:20260426T004616
CREATED:20210629T105442Z
LAST-MODIFIED:20210629T105610Z
UID:10432-1625652000-1625853600@bourgogne-franche-comte.frmjc.org
SUMMARY:Stage informatique - MJC Héritan - Session 1
DESCRIPTION:STAGE INFORMATIQUE DEBUT JUILLET \n\n\n\n Places limitées\, inscription à l’accueil de la MJC.\n\n\n\n Stage adulte – les bases de l’informatique  :\nLors de ces stages\, vous pourrez voir ou revoir les bases de l’informatique ! Créer des mails\, utiliser Word\, Excel\, … etc. On sera là pour aider ! Alors attrapez vos ordinateurs (ou tablettes) et venez apprendre ou réapprendre les bases de l’informatique !\n\n\nSession 1 : du 7\, 8\, 9 juillet de 17h – 18h\n\n\nSession 2 : du 13\, 15\, 16 juillet de 17h – 18h\n\n\nAu programme pour les deux sessions :\n-Bases de Windows\, multimédia\, transfert de fichiers\, création d’adresse mail\n-D’autres points selon la demande…\n\n\nTarifs : 15 euros la session\n\n\n—\n\n\n\n Stage ados – deux stages différents\, un sur la programmation de jeux vidéo\, l’autre sur la programmation de site web :\n\n\nLors de ces stages\, votre enfant s’initiera et/ou se perfectionnera à la programmation informatique ! Au programme : robotique\, algorithmes\, programmation\, animations\, graphisme. Les enfants apprendront à programmer\, créer et innover !\n\n\nProgrammation de Jeux Vidéo \n\n\nSession 1 : 7\, 8\, 9 juillet de 10h – 12h\nSession 2 : 13\, 15\, 16 juillet de 10h – 12h\n\n\nAu programme :\n– Programmation de jeux vidéo\n– Programmation avec Scratch\n– Réalisation des graphismes avec Paint.net et Sound Design\n\n\nTarifs : 30 euros la session\n\n\nProgrammation sur site internet \n\n\nSession 1 : 7\, 8\, 9 juillet de 14h – 16h\n\n\nAu programme :\n– Utilisation du Framework Bootstrap\n– Conception d’un faux site internet (création d’une page\, fausse marque\, faux produits afin d’apprendre à créer un site complet)\n\n\nSession 2 : 13\, 15\, 16 juillet de 14h-16h\n\n\nAu programme :\n– Approfondissement et bases du PHP\n– Découverte bases de données\, utilisation PHP\, amélioration du site web créé avec panel d’administration\, système d’articles\, de création de compte\, etc.\n\n\nTarifs : 30 euros la session
URL:http://bourgogne-franche-comte.frmjc.org/evenement/stage-informatique-mjc-heritan-session-1/
LOCATION:MJC Héritan\, 24 rue de l'Héritan\, Mâcon\, 71000\, France
CATEGORIES:Stage
ATTACH;FMTTYPE=image/jpeg:http://bourgogne-franche-comte.frmjc.org/wp-content/uploads/2021/06/203019256_1457387604594675_2612461793691446821_n.jpg
END:VEVENT
BEGIN:VEVENT
DTSTART;TZID=Europe/Paris:20210707T100000
DTEND;TZID=Europe/Paris:20210716T160000
DTSTAMP:20260426T004616
CREATED:20210630T134335Z
LAST-MODIFIED:20210630T134335Z
UID:10480-1625652000-1626451200@bourgogne-franche-comte.frmjc.org
SUMMARY:Stages d'été - MJC Nuits-Saint-Georges
DESCRIPTION:
URL:http://bourgogne-franche-comte.frmjc.org/evenement/stages-dete-mjc-nuits-saint-georges/
LOCATION:MJC Nuits-Saint-Georges
CATEGORIES:Stage
END:VEVENT
BEGIN:VEVENT
DTSTART;TZID=Europe/Paris:20210709T193000
DTEND;TZID=Europe/Paris:20210709T193000
DTSTAMP:20260426T004616
CREATED:20210629T104945Z
LAST-MODIFIED:20210629T104945Z
UID:10429-1625859000-1625859000@bourgogne-franche-comte.frmjc.org
SUMMARY:Spectacle de Théâtre  - MJC Héritan
DESCRIPTION:Théâtre – Vendredi 9 juillet à 19 h 30\n\n\nCie T.P.B.S\, Théâtre Portatif Bourgogne Sud présente\n” Farce et Fabliaux du Moyen-Age “\n\n\nPetite forme – 45 min\n\n\nDeux Fabliaux et une Farce\, des histoires courtes aux sources du théâtre populaire qui n’engendrent pas la mélancolie.\n\n\nSpectacle au chapeau.\n\n\nMise en scène : Jean-Jacques Nonot\nComédiens : Amélie Vayssade\, Alain Géraudel\, Jean-Jacques Nonot\nRégie : Estelle Gauthier\nExtraits musicaux réinterprétés par Maroussia Laforet et Marcellin Babey
URL:http://bourgogne-franche-comte.frmjc.org/evenement/spectacle-de-theatre-mjc-heritan/
LOCATION:MJC Héritan\, 24 rue de l'Héritan\, Mâcon\, 71000\, France
CATEGORIES:Théâtre
ATTACH;FMTTYPE=image/jpeg:http://bourgogne-franche-comte.frmjc.org/wp-content/uploads/2021/06/206504661_4076329015735943_8994820133880249228_n.jpg
END:VEVENT
BEGIN:VEVENT
DTSTART;TZID=Europe/Paris:20210709T193000
DTEND;TZID=Europe/Paris:20210709T203000
DTSTAMP:20260426T004616
CREATED:20210708T082420Z
LAST-MODIFIED:20210708T082719Z
UID:10598-1625859000-1625862600@bourgogne-franche-comte.frmjc.org
SUMMARY:Théâtre - Farces et Fabliaux du Moyen-Âge - MJC Héritan
DESCRIPTION:Vendredi à 19 h 30\, la MJC Héritan propose une soirée théâtre avec la Cie T.P.B.S\, Théâtre Portatif Bourgogne Sud.  « Farce et Fabliaux du Moyen-Age »\, c’est deux Fabliaux et une Farce\, des histoires courtes aux sources du théâtre populaire qui n’engendrent pas la mélancolie. \nSpectacle au chapeau de 45 mn. \nMise en scène : Jean-Jacques Nonot \nComédiens : Amélie Vayssade\, Alain Géraudel\, Jean-Jacques Nonot \nRégie : Estelle Gauthier \nExtraits musicaux réinterprétés par Maroussia Laforet et Marcellin Babey
URL:http://bourgogne-franche-comte.frmjc.org/evenement/theatre-farces-et-fabliaux-du-moyen-age-mjc-heritan/
LOCATION:MJC Héritan\, 24 rue de l'Héritan\, Mâcon\, 71000\, France
CATEGORIES:Théâtre
ATTACH;FMTTYPE=image/jpeg:http://bourgogne-franche-comte.frmjc.org/wp-content/uploads/2021/07/MACON_mjc_heritan_Fabliaux-1.jpg
END:VEVENT
BEGIN:VEVENT
DTSTART;TZID=Europe/Paris:20210709T200000
DTEND;TZID=Europe/Paris:20210710T150000
DTSTAMP:20260426T004616
CREATED:20210707T072441Z
LAST-MODIFIED:20210707T072441Z
UID:10542-1625860800-1625929200@bourgogne-franche-comte.frmjc.org
SUMMARY:Théâtre : La Compagnie du Sablier - MJC CS Bourroches
DESCRIPTION:La Compagnie du Sablier présente L’Hôtel du libre échange de Georges Feydeau \n  \nDans un monde feutré et calme\, la lave est bien souvent contenue. Mais les fissures des grands volcans laissent passer quelques gouttes ça et là. La vie trouve le chemin\, comme toujours\, et les humains se réapproprient leur animalité. Le réveil est alors brutal et magnifique. \nDistribution : \nLise Dusoleil-Sautet\, Romane Havez\, Betty Déglise\, Mathilde Boyle\, Juliette Ripart\, Vincent Rault\, Sébastien Véziat\, Davy Barrios\, Dominique Sautet \n  \nMise en scène : Benjamin Alison \nRéservation : 06.63.67.81.73 (laisser un message en précisant le nom et le nombre de places réservées) \n  \n  \n  \n 
URL:http://bourgogne-franche-comte.frmjc.org/evenement/theatre-la-compagnie-du-sablier-mjc-cs-bourroches/
LOCATION:MJC CS Bourroches\, 31 boulevard Eugène Fyot\, Dijon\, 21000
CATEGORIES:Théâtre
ATTACH;FMTTYPE=image/jpeg:http://bourgogne-franche-comte.frmjc.org/wp-content/uploads/2021/07/212764920_2893337090884115_3784686107461658055_n.jpg
END:VEVENT
BEGIN:VEVENT
DTSTART;TZID=Europe/Paris:20210709T200000
DTEND;TZID=Europe/Paris:20210711T200000
DTSTAMP:20260426T004616
CREATED:20210630T131054Z
LAST-MODIFIED:20210630T131054Z
UID:10468-1625860800-1626033600@bourgogne-franche-comte.frmjc.org
SUMMARY:Molière ! - MJC Montchapet
DESCRIPTION:Création et mise en scène Martin Petitguyot – Compagnie Amaranta \n  \nSeul en scène\, le personnage de Jacques Lafargues\, biographe et conférencier\, asthmatique et maladroit\, érudit et soporifique\, passionné et imprévisible\, s’emploiera à nous présenter Molière dans une conférence pédagogique d’1h à 1h30 (selon l’état de ses bronches). L’occasion surtout de faire résonner quelques mots du poète – essayer\, encore\, de rire et faire entrer la lumière… Molière\, lumière… \n2 représentations : \nLe Vendredi 9 juillet à 20h \nLe Dimanche 11 juillet à 17h30 \nTout public dès 14 ans – Tarif 8€ / 5€
URL:http://bourgogne-franche-comte.frmjc.org/evenement/moliere-mjc-montchapet/
LOCATION:MJC CS Montchapet
CATEGORIES:Théâtre
ATTACH;FMTTYPE=image/png:http://bourgogne-franche-comte.frmjc.org/wp-content/uploads/2021/06/208389881_1612615112280102_5682479557213600776_n.png
END:VEVENT
BEGIN:VEVENT
DTSTART;TZID=Europe/Paris:20210709T220000
DTEND;TZID=Europe/Paris:20210709T220000
DTSTAMP:20260426T004616
CREATED:20210622T104957Z
LAST-MODIFIED:20210622T104957Z
UID:10185-1625868000-1625868000@bourgogne-franche-comte.frmjc.org
SUMMARY:Une toile sous les étoiles : le cinquième élément
DESCRIPTION:Les Tourneurs de Côte-d’Or vous proposent de profiter d’une séance de cinéma en plein air.\n\n\n A L’AFFICHE : \nLe cinquième élément de Luc Besson • Avec Bruce Willis\, Gary Oldman\, Ian Holm • 2h 06min • Science-Fiction\, Action\n\nEgypte\, 1914. Des extraterrestres récupèrent quatre pierres magiques\, symboles des quatre éléments\, jadis confiées à des prêtres. Avant de partir\, les extraterrestres promettent que dans 300 ans\, ils rapporteront les précieux cailloux. Au XXIIIe siècle\, alors qu’ils font route vers la Terre\, ils sont anéantis par la planète du Mal. Les habitants de ce monde maléfique\, les Mangalores\, s’emparent des pierres et foncent vers la Terre.
URL:http://bourgogne-franche-comte.frmjc.org/evenement/une-toile-sous-les-etoiles-le-cinquieme-element/
LOCATION:Talant
CATEGORIES:Cinéma
ATTACH;FMTTYPE=image/jpeg:http://bourgogne-franche-comte.frmjc.org/wp-content/uploads/2021/06/cinquieme-element.jpg
END:VEVENT
BEGIN:VEVENT
DTSTART;TZID=Europe/Paris:20210709T220000
DTEND;TZID=Europe/Paris:20210709T220000
DTSTAMP:20260426T004616
CREATED:20210701T105832Z
LAST-MODIFIED:20210701T105832Z
UID:10505-1625868000-1625868000@bourgogne-franche-comte.frmjc.org
SUMMARY:Une toile sous les étoiles : L'Ecole buissonnière
DESCRIPTION:Les Tourneurs de Côte-d’Or vous proposent de profiter d’une séance de cinéma en plein air.\n\n\n A L’AFFICHE : \nL’Ecole Buissonnière de Nicolas Vanier • avec François Cluzet\, Eric Elmosnino\, François Berléand • 1h 56min • Drame\, Comédie\n\n\n\nParis 1930. Paul n’a toujours eu qu’un seul et même horizon : les hauts murs de l’orphelinat\, sévère bâtisse de la banlieue ouvrière parisienne. Confié à une joyeuse dame de la campagne\, Célestine et à son mari\, Borel\, le garde-chasse un peu raide d’un vaste domaine en Sologne\, l’enfant des villes\, récalcitrant et buté\, arrive dans un monde mystérieux et inquiétant\, celui d’une région souveraine et sauvage.\nL’immense forêt\, les étangs embrumés\, les landes et les champs\, tout ici appartient au Comte de la Fresnaye\, un veuf taciturne qui vit solitaire dans son manoir. Le Comte tolère les braconniers sur le domaine mais Borel les traque sans relâche et s’acharne sur le plus rusé et insaisissable d’entre eux\, Totoche. Au cœur de la féérique Sologne\, aux côtés du braconnier\, grand amoureux de la nature\, Paul va faire l’apprentissage de la vie mais aussi celui de la forêt et de ses secrets. Un secret encore plus lourd pèse sur le domaine\, car Paul n’est pas venu là par hasard…
URL:http://bourgogne-franche-comte.frmjc.org/evenement/une-toile-sous-les-etoiles-lecole-buissonniere-5/
LOCATION:Terrain de foot – Camping\, Santenay
CATEGORIES:Cinéma
ATTACH;FMTTYPE=image/jpeg:http://bourgogne-franche-comte.frmjc.org/wp-content/uploads/2021/06/Lecole-buissonniere.jpg
END:VEVENT
END:VCALENDAR